BEGIN:VCALENDAR
VERSION:2.0
PRODID:-//ChamberMaster//Event Calendar 2.0//EN
METHOD:PUBLISH
X-PUBLISHED-TTL:P3D
REFRESH-INTERVAL:P3D
CALSCALE:GREGORIAN
BEGIN:VEVENT
DTSTART:20220207T180000Z
DTEND:20220207T190000Z
X-MICROSOFT-CDO-ALLDAYEVENT:FALSE
SUMMARY:Level Up\, TRC Rally\, Sponsored by In the Bag
DESCRIPTION:Level Up TRC volunteers!  It is time to rally for the 2022 TRC Campaign!  These rallies are not required to attend\, however they are a lot of fun and strongly encouraged.\n\n\n\nThe TRC rally is the perfect time to get your questions answered\, re-connect with your team\, receive your incentives for the week\, pick up some awesome prizes and more!  You don't want to miss these sessions.  Lunch is provided so reservations are required.
X-ALT-DESC;FMTTYPE=text/html:Level Up TRC volunteers!&nbsp\; It is time to rally for the 2022 TRC Campaign!&nbsp\; These rallies are not required to attend\, however they are a lot of fun and strongly encouraged.<br />\n<br />\nThe TRC rally is the perfect time to get your questions answered\, re-connect with your team\, receive your incentives for the week\, pick up some awesome prizes and more!&nbsp\; You don&#39\;t want to miss these sessions.&nbsp\; <strong>Lunch is provided so reservations are required.&nbsp\;&nbsp\;</strong>
LOCATION:Urbandale Chamber of Commerce and Zoom
UID:e.1185.12211
SEQUENCE:3
DTSTAMP:20260425T030818Z
URL:http://getaquote-mobile.uniquelyurbandale.com/events/details/level-up-trc-rally-sponsored-by-in-the-bag-12211
END:VEVENT

END:VCALENDAR
