BEGIN:VCALENDAR
VERSION:2.0
PRODID:-//ChamberMaster//Event Calendar 2.0//EN
METHOD:PUBLISH
X-PUBLISHED-TTL:P3D
REFRESH-INTERVAL:P3D
CALSCALE:GREGORIAN
BEGIN:VEVENT
DTSTART:20181127T233000Z
DTEND:20181128T003000Z
X-MICROSOFT-CDO-ALLDAYEVENT:FALSE
SUMMARY:Let's Get Cozy!
DESCRIPTION:Enjoy complimentary grilled cheese sandwiches\, tomato soup and board games by the fireplace.
X-ALT-DESC;FMTTYPE=text/html:Enjoy complimentary grilled cheese sandwiches\, tomato soup and board games by the fireplace.
LOCATION:Hotel Renovo
UID:e.1185.8726
SEQUENCE:3
DTSTAMP:20260422T142445Z
URL:http://getaquote-mobile.uniquelyurbandale.com/events/details/let-s-get-cozy-8726
END:VEVENT

END:VCALENDAR
