BEGIN:VCALENDAR
VERSION:2.0
PRODID:-//ChamberMaster//Event Calendar 2.0//EN
METHOD:PUBLISH
X-PUBLISHED-TTL:P3D
REFRESH-INTERVAL:P3D
CALSCALE:GREGORIAN
BEGIN:VEVENT
DTSTART:20161016T200000Z
DTEND:20161016T213000Z
X-MICROSOFT-CDO-ALLDAYEVENT:FALSE
SUMMARY:Learn to Vacation Cruise…On a Budget!
DESCRIPTION:Thinking about a cruise this winter? Now is a great time to plan one ... and here's information to help you! **Learn to Vacation Cruise On a Budget** In this 1.5-hour seminar\, you'll learn how to choose the right cruise for your personality and needs. You'll learn what to look for from a cruise line\, what "all inclusive" really means\, where to cruise\, what to pack\, how long to make your first cruise\, how far in advance to plan a cruise\, cruise safety and seasickness   and much more. Learn how to make your next cruise your best while sticking to the budget you set. Bring your cruising questions. Join Cimberly Hansen as she shares her extensive travel experience through helpful slides\, handouts and props. Cimberly is a teacher\, an Urbandale resident and travel expert. She coordinates state side and international vacations\, both on land and sea. $15/person. Refreshments served. Please note: Cimberly is a neighbor and fellow traveler sharing her experience. She is not selling anything and nothing will be sold at this event. RSVP to Anne at nielanda@yahoo.com or by calling 515-559-3819
X-ALT-DESC;FMTTYPE=text/html:Thinking about a cruise this winter? Now is a great time to plan one ... and here&#39\;s information to help you! **Learn to Vacation Cruise&hellip\;On a Budget** In this 1.5-hour seminar\, you&#39\;ll learn how to choose the right cruise for your personality and needs. You&#39\;ll learn what to look for from a cruise line\, what &quot\;all inclusive&quot\; really means\, where to cruise\, what to pack\, how long to make your first cruise\, how far in advance to plan a cruise\, cruise safety and seasickness &hellip\; and much more. Learn how to make your next cruise your best while sticking to the budget you set. Bring your cruising questions. Join Cimberly Hansen as she shares her extensive travel experience through helpful slides\, handouts and props. Cimberly is a teacher\, an Urbandale resident and travel expert. She coordinates state side and international vacations\, both on land and sea. $15/person. Refreshments served. Please note: Cimberly is a neighbor and fellow traveler sharing her experience. She is not selling anything and nothing will be sold at this event. RSVP to Anne at nielanda@yahoo.com or by calling 515-559-3819
LOCATION:74th Street & Meredith Dr. Directions sent at sign up. Thank you!
UID:e.1185.4921
SEQUENCE:3
DTSTAMP:20260421T034917Z
URL:http://getaquote-mobile.uniquelyurbandale.com/events/details/learn-to-vacation-cruise-on-a-budget-4921
END:VEVENT

END:VCALENDAR
