BEGIN:VCALENDAR
VERSION:2.0
PRODID:-//ChamberMaster//Event Calendar 2.0//EN
METHOD:PUBLISH
X-PUBLISHED-TTL:P3D
REFRESH-INTERVAL:P3D
CALSCALE:GREGORIAN
BEGIN:VEVENT
DTSTART:20160709T133000Z
DTEND:20160709T150000Z
X-MICROSOFT-CDO-ALLDAYEVENT:FALSE
SUMMARY:Learn How to Take Better Pictures With Your Smartphone Before Summer Vacation
DESCRIPTION:With summer upon us\, more people reach in their pockets and use their smartphones to capture vacation memories and daily moments. According to a recent U.S. Cellular survey\, nine of 10 smartphone owners indicated they have taken photos or videos with their phones\, while two of three said they use their devices for social media. Attendees can get advice on how to take better pictures with their devices\, such as the iPhone 6s\, Samsung Galaxy S7 or LG G5\, during a free U.S. Cellular Device Workshop. You don't have to be a U.S. Cellular customer to attend. "We want to show you how to take better pictures with your smartphone or tablet\," said Mike Adams\, U.S. Cellular's director of sales in Iowa and Nebraska. "These tips combined our high-quality network will make it easier to share your great photos with your family and friends no matter where your summer travel takes you." You may call 515-249-8800 for more information or to RSVP.
X-ALT-DESC;FMTTYPE=text/html:With summer upon us\, more people reach in their pockets and use their smartphones to capture vacation memories and daily moments. According to a recent U.S. Cellular survey\, nine of 10 smartphone owners indicated they have taken photos or videos with their phones\, while two of three said they use their devices for social media. Attendees can get advice on how to take better pictures with their devices\, such as the iPhone 6s\, Samsung Galaxy S7 or LG G5\, during a free U.S. Cellular Device Workshop. You don&rsquo\;t have to be a U.S. Cellular customer to attend. &ldquo\;We want to show you how to take better pictures with your smartphone or tablet\,&rdquo\; said Mike Adams\, U.S. Cellular&rsquo\;s director of sales in Iowa and Nebraska. &ldquo\;These tips combined our high-quality network will make it easier to share your great photos with your family and friends no matter where your summer travel takes you.&rdquo\; You may call 515-249-8800 for more information or to RSVP.
LOCATION:U.S. Cellular\, 8475 Hickman Road\, Urbandale\, IA 50322
UID:e.1185.4857
SEQUENCE:3
DTSTAMP:20260420T230137Z
URL:http://getaquote-mobile.uniquelyurbandale.com/events/details/learn-how-to-take-better-pictures-with-your-smartphone-before-summer-vacation-07-09-2016-4857
END:VEVENT

END:VCALENDAR
