BEGIN:VCALENDAR
VERSION:2.0
PRODID:-//ChamberMaster//Event Calendar 2.0//EN
METHOD:PUBLISH
X-PUBLISHED-TTL:P3D
REFRESH-INTERVAL:P3D
CALSCALE:GREGORIAN
BEGIN:VEVENT
DTSTART:20160324T193000Z
DTEND:20160324T203000Z
X-MICROSOFT-CDO-ALLDAYEVENT:FALSE
SUMMARY:Learn about the Amanda the Panda Organization
DESCRIPTION:Amanda the Panda Family Grief Center in West Des Moines\, Iowa offers the most comprehensive and ongoing services for children\, teens\, adults and families struggling with a death of a loved one in the state of Iowa. Join us to hear a guest speaker from Amanda the Panda share on how the foundation got started\, why they do what they do\, and the special people behind the scenes.
X-ALT-DESC;FMTTYPE=text/html:Amanda the Panda Family Grief Center in West Des Moines\, Iowa offers the most comprehensive and ongoing services for children\, teens\, adults and families struggling with a death of a loved one in the state of Iowa. Join us to hear a guest speaker from Amanda the Panda share on how the foundation got started\, why they do what they do\, and the special people behind the scenes.
LOCATION:The Village at Legacy Pointe 1650 SE Holiday Crest Circle
UID:e.1185.4741
SEQUENCE:3
DTSTAMP:20260420T153214Z
URL:http://getaquote-mobile.uniquelyurbandale.com/events/details/learn-about-the-amanda-the-panda-organization-03-24-2016-4741
END:VEVENT

END:VCALENDAR
