BEGIN:VCALENDAR
VERSION:2.0
PRODID:-//ChamberMaster//Event Calendar 2.0//EN
METHOD:PUBLISH
X-PUBLISHED-TTL:P3D
REFRESH-INTERVAL:P3D
CALSCALE:GREGORIAN
BEGIN:VEVENT
DTSTART:20170406T223000Z
DTEND:20170407T003000Z
X-MICROSOFT-CDO-ALLDAYEVENT:FALSE
SUMMARY:Ladies Night at La' James International College Des Moines
DESCRIPTION:Help us make a Difference! Throughout the month of April & May La' James International College Des Moines will be hosting fun & exciting events in honor of LJIC Massage Therapy Graduate\, Sara Preston who is fighting Hodgkin's Lymphoma. All proceeds from each event will go towards Sara & her 3 beautiful little girls. \n\n\n\nJoin us on Thursday\, April 6th {5:30-7:30pm} for Ladies Night! Come relax & enjoy pamper yourself while giving back to a great cause! Receive a Skin Analysis\, Express Facial & Mini-Makeup application for only $20! Again\, all proceeds will be given to Sara Preston. \n\n\n\nTo book your appointment\, simply call us at 888.880.2108 & press 2 for our Guest Services. Reserve a spot for YOU and YOUR FRIENDS today! \n\n\n\nIf you can't make it in\, please consider donating online at https://www.gofundme.com/fight-hodgkins-lymphoma
X-ALT-DESC;FMTTYPE=text/html:<span style="color:rgb(75\, 79\, 86)\; font-family:helvetica neue\,helvetica\,arial\,sans-serif\; font-size:14.40000057220459px">Help us make a Difference! Throughout the month of April &amp\; May&nbsp\;</span><a href="https://www.facebook.com/LaJamesInternationalCollegeDesMoines/" style="color: rgb(54\, 88\, 153)\; cursor: pointer\; text-decoration: none\; font-family: 'Helvetica Neue'\, Helvetica\, Arial\, sans-serif\; font-size: 14.40000057220459px\;">La&#39\; James International College Des Moines</a><span style="color:rgb(75\, 79\, 86)\; font-family:helvetica neue\,helvetica\,arial\,sans-serif\; font-size:14.40000057220459px">&nbsp\;will be hosting fun &amp\; exciting events in honor of LJIC Massage Therapy Graduate\, Sara Preston who is fighting Hodgkin&#39\;s Lymphoma. All proceeds from each event will go towards Sara &amp\; her 3 beautiful little girls.&nbsp\;</span><br />\n<br />\n<span style="color:rgb(75\, 79\, 86)\; font-family:helvetica neue\,helvetica\,arial\,sans-serif\; font-size:14.40000057220459px">Join us on Thursday\, April 6th {5:30-7:30pm} for Ladies Night! Come relax &amp\; enjoy pamper yourself while giving back to a great cause! Receive a Skin Analysis\, Express Facial &amp\; Mini-Makeup application for only $20! Again\, all proceeds will be given to Sara Preston.&nbsp\;</span><br />\n<br />\n<span style="color:rgb(75\, 79\, 86)\; font-family:helvetica neue\,helvetica\,arial\,sans-serif\; font-size:14.40000057220459px">To book your appointment\, simply call us at 888.880.2108 &amp\; press 2 for our Guest Services. Reserve a spot for YOU and YOUR FRIENDS today!&nbsp\;</span><br />\n<br />\n<span style="color:rgb(75\, 79\, 86)\; font-family:helvetica neue\,helvetica\,arial\,sans-serif\; font-size:14.40000057220459px">If you can&#39\;t make it in\, please consider donating online at&nbsp\;</span><a href="https://l.facebook.com/l.php?u=https%3A%2F%2Fwww.gofundme.com%2Ffight-hodgkins-lymphoma&amp\;h=ATMVX8wOdIH2BP1bpOu3gH3jvJXArjE8UY3E1bnAXziY4a92WLFUiGLh8-TrO15xAfnpE7IJPPyYEn31k0JZFJGcKHh7FoyEdTjwEGVwQt0cso3nK55uNhmQ5Irci5zDbTodGEFoRw0&amp\;enc=AZNmJjxtMnaWuovUqj8lR7s12uRjFoDxJELxyllb2RpMulzCsY299WDsER6QwXGavTk&amp\;s=1" rel="nofollow nofollow" style="color: rgb(54\, 88\, 153)\; cursor: pointer\; text-decoration: none\; font-family: 'Helvetica Neue'\, Helvetica\, Arial\, sans-serif\; font-size: 14.40000057220459px\;" target="_blank"><span style="font-family:inherit">https://www.gofundme.com/</span>fight-hodgkins-lymphoma</a>
LOCATION:La' James International College 8805 Chambery Blvd. Johnston\, IA
UID:e.1185.5167
SEQUENCE:3
DTSTAMP:20260421T104043Z
URL:http://getaquote-mobile.uniquelyurbandale.com/events/details/ladies-night-at-la-james-international-college-des-moines-5167
END:VEVENT

END:VCALENDAR
