BEGIN:VCALENDAR
VERSION:2.0
PRODID:-//ChamberMaster//Event Calendar 2.0//EN
METHOD:PUBLISH
X-PUBLISHED-TTL:P3D
REFRESH-INTERVAL:P3D
CALSCALE:GREGORIAN
BEGIN:VEVENT
DTSTART:20220114T220000Z
DTEND:20220114T230000Z
X-MICROSOFT-CDO-ALLDAYEVENT:FALSE
SUMMARY:Kick Off to TRC\, Presented by In the Bag
DESCRIPTION:We are Leveling Up this year with the TRC Kick Off event for volunteers taking place on a Friday afternoon!  We invite all TRC volunteers to help us kick off this critical program by attending with your fellow teammates to announce your team name\, team goal and to rev up for a successful campaign!
X-ALT-DESC;FMTTYPE=text/html:We are Leveling Up this year with the TRC Kick Off event for volunteers taking place on a Friday afternoon!&nbsp\; We invite all TRC volunteers to help us kick off this critical program by attending with your fellow teammates to announce your team name\, team goal and to rev up for a successful campaign!&nbsp\;&nbsp\;
LOCATION:THIS HAS BEEN MOVED TO ZOOM ONLY DUE TO THE COVID POSITIVITY COUNTS EXCEEDING 20% IN POLK COUNTY.
UID:e.1185.12206
SEQUENCE:3
DTSTAMP:20260425T002426Z
URL:http://getaquote-mobile.uniquelyurbandale.com/events/details/kick-off-to-trc-presented-by-in-the-bag-12206
END:VEVENT

END:VCALENDAR
