BEGIN:VCALENDAR
VERSION:2.0
PRODID:-//ChamberMaster//Event Calendar 2.0//EN
METHOD:PUBLISH
X-PUBLISHED-TTL:P3D
REFRESH-INTERVAL:P3D
CALSCALE:GREGORIAN
BEGIN:VEVENT
DTSTART:20200424T150000Z
DTEND:20200424T160000Z
X-MICROSOFT-CDO-ALLDAYEVENT:FALSE
SUMMARY:KEY in Des Moines: Student Employer Panel - How COVID-19 is Impacting Summer Internships & New Grad Hiring
DESCRIPTION:How COVID-19 is Impacting Summer Internships & New Grad Hiring\n\nA panel of employers from the Des Moines metro will share with area college students how they are responding to the impacts of COVID-19.  Discussion topics will include delivery of summer 2020 internships\, hiring projections for new college graduates\, and changes to recruitment and selection of new employees.
X-ALT-DESC;FMTTYPE=text/html:<strong>How COVID-19 is Impacting Summer Internships &amp\; New Grad Hiring</strong><br />\nA panel of employers from the Des Moines metro will share with area college students how they are responding to the impacts of COVID-19.&nbsp\; Discussion topics will include delivery of summer 2020 internships\, hiring projections for new college graduates\, and changes to recruitment and selection of new employees.
LOCATION:After registering\, attendees will receive a Zoom link to join the virtual event.
UID:e.1185.10893
SEQUENCE:3
DTSTAMP:20260423T185642Z
URL:http://getaquote-mobile.uniquelyurbandale.com/events/details/key-in-des-moines-student-employer-panel-how-covid-19-is-impacting-summer-internships-new-grad-hiring-10893
END:VEVENT

END:VCALENDAR
