BEGIN:VCALENDAR
VERSION:2.0
PRODID:-//ChamberMaster//Event Calendar 2.0//EN
METHOD:PUBLISH
X-PUBLISHED-TTL:P3D
REFRESH-INTERVAL:P3D
CALSCALE:GREGORIAN
BEGIN:VEVENT
DTSTART:20170512T180000Z
DTEND:20170512T200000Z
X-MICROSOFT-CDO-ALLDAYEVENT:FALSE
SUMMARY:Karen Acres 5K Walk/Run
DESCRIPTION:Karen Acres Fund Run\n\n5K Walk/Run\n\nFriday\, May 12th at 1:00 p.m.\n\n(Rain Date: Friday\, May 19th)\n\nKaren Acres Elementary\n\n\n\nTucked away in the small neighborhood of Karen Acres\, lies the "little school that could." Just a few\n\nyears ago\, Karen Acres Elementary was struggling academically and was listed as a school in need of\n\nassistance. Through this time\, the principal\, teachers\, students\, parents\, and community volunteers\n\nhave worked hard to change this momentum. This year\, Karen Acres Elementary (lovingly known as\n\nKA)\, received a great distinction being named a high performing school according to the Iowa School\n\nReport Card by the Iowa Department of Education. It is the only school in the Urbandale School District\n\nwith this ranking and is among the top 14% of all schools statewide.\n\n(Check out our accomplishments here:\n\nhttp://reports.educateiowa.gov/schoolreportcard/home/reportcard?yr=2016&sch=65790427&type=elementary ).\n\nWhile the school has made huge strides academically\, we are facing some financial needs and are asking\n\nfor your support and help. The PTO will be sponsoring a schoolwide 5K fun run for the students and\n\ntheir families to raise money for both annual and one-time needs. We must raise $10\,000 to pay for\n\nthis year's field trips\, needed classroom supplies\, and school activities. If additional monies are raised\,\n\nthe playground and exterior is in need of soccer goals (the kids use "invisible" goal posts) and capital\n\nimprovement projects after our remodel and renovation. How can you help? Please choose to be a\n\nsponsor by going to https://urbandaleschools.revtrak.net/tek9.asp . Sponsorship details are attached\n\nto this letter. If you have any questions regarding making a donation\, please contact Megan\n\nDaughenbaugh at (515) 975-6148 or email KarenAcres5K@gmail.com .\n\nThank you!\n\nKaren Acres PTO 5K Committee
X-ALT-DESC;FMTTYPE=text/html:Karen Acres Fund Run<br />\n5K Walk/Run<br />\nFriday\, May 12th at 1:00 p.m.<br />\n(Rain Date: Friday\, May 19th)<br />\nKaren Acres Elementary<br />\n<br />\nTucked away in the small neighborhood of Karen Acres\, lies the &ldquo\;little school that could.&rdquo\; Just a few<br />\nyears ago\, Karen Acres Elementary was struggling academically and was listed as a school in need of<br />\nassistance. Through this time\, the principal\, teachers\, students\, parents\, and community volunteers<br />\nhave worked hard to change this momentum. This year\, Karen Acres Elementary (lovingly known as<br />\nKA)\, received a great distinction being named a high performing school according to the Iowa School<br />\nReport Card by the Iowa Department of Education. It is the only school in the Urbandale School District<br />\nwith this ranking and is among the top 14% of all schools statewide.<br />\n(Check out our accomplishments here:<br />\nhttp://reports.educateiowa.gov/schoolreportcard/home/reportcard?yr=2016&amp\;sch=65790427&amp\;type=elementary ).<br />\nWhile the school has made huge strides academically\, we are facing some financial needs and are asking<br />\nfor your support and help. The PTO will be sponsoring a schoolwide 5K fun run for the students and<br />\ntheir families to raise money for both annual and one-time needs. We must raise $10\,000 to pay for<br />\nthis year&rsquo\;s field trips\, needed classroom supplies\, and school activities. If additional monies are raised\,<br />\nthe playground and exterior is in need of soccer goals (the kids use &ldquo\;invisible&rdquo\; goal posts) and capital<br />\nimprovement projects after our remodel and renovation. How can you help? Please choose to be a<br />\nsponsor by going to https://urbandaleschools.revtrak.net/tek9.asp . Sponsorship details are attached<br />\nto this letter. If you have any questions regarding making a donation\, please contact Megan<br />\nDaughenbaugh at (515) 975-6148 or email KarenAcres5K@gmail.com .<br />\nThank you!<br />\nKaren Acres PTO 5K Committee<br />\n&nbsp\;
LOCATION:Karen Acres Elementary
UID:e.1185.5191
SEQUENCE:3
DTSTAMP:20260421T120148Z
URL:http://getaquote-mobile.uniquelyurbandale.com/events/details/karen-acres-5k-walk-run-5191
END:VEVENT

END:VCALENDAR
