BEGIN:VCALENDAR
VERSION:2.0
PRODID:-//ChamberMaster//Event Calendar 2.0//EN
METHOD:PUBLISH
X-PUBLISHED-TTL:P3D
REFRESH-INTERVAL:P3D
CALSCALE:GREGORIAN
BEGIN:VEVENT
DTSTART:20170613T143000Z
DTEND:20170613T160000Z
X-MICROSOFT-CDO-ALLDAYEVENT:FALSE
SUMMARY:Kaplan University Career Fair
DESCRIPTION:Don't Miss the Des Moines Career Fair 2017 Tuesday\, June 13 9:30 am 11:00 am   Dress professionally and bring a printed r sum    Private rooms will be available for on-the-spot interviews with potential employers   Open to the general public
X-ALT-DESC;FMTTYPE=text/html:Don&rsquo\;t Miss the Des Moines Career Fair 2017 Tuesday\, June 13 9:30 am&ndash\;11:00 am &bull\; Dress professionally and bring a printed r&eacute\;sum&eacute\; &bull\; Private rooms will be available for on-the-spot interviews with potential employers &bull\; Open to the general public
LOCATION:Kaplan University Des Moines Campus 4655 121st Street\, Urbandale\, IA 50323
UID:e.1185.6210
SEQUENCE:3
DTSTAMP:20260421T132237Z
URL:http://getaquote-mobile.uniquelyurbandale.com/events/details/kaplan-university-career-fair-6210
END:VEVENT

END:VCALENDAR
