BEGIN:VCALENDAR
VERSION:2.0
PRODID:-//ChamberMaster//Event Calendar 2.0//EN
METHOD:PUBLISH
X-PUBLISHED-TTL:P3D
REFRESH-INTERVAL:P3D
CALSCALE:GREGORIAN
BEGIN:VEVENT
DTSTART:20140409T163000Z
DTEND:20140409T173000Z
X-MICROSOFT-CDO-ALLDAYEVENT:FALSE
SUMMARY:Kaplan University and Urbandale Chamber Career Fair and Interview Day
DESCRIPTION:Kaplan University and the Urbandale Chamber of Commerce are partnering for a Career Fair on Wednesday\, April 9th from 11:30-12:30 pm at Kaplan University (4655 121st Street\, Urbandale).   Please pass on this information to anyone you believe would be interested in attending.\n\n \n\nThis event is free and open to the public.\n\n\n\nFor questions\, please contact Jami Olson\, Career Services Coordinator\,  at 515-727-6817 or jolson2@kaplan.edu.\n\n\n\n**Please note: Company Booths are SOLD OUT
X-ALT-DESC;FMTTYPE=text/html:<span style="color: rgb(0\, 0\, 0)\; font-family: Arial\, Helvetica\, 'MS Sans Serif'\, sans-serif\; font-size: 11.199999809265137px\; line-height: normal\;">Kaplan University and the&nbsp\;Urbandale&nbsp\;Chamber of Commerce are partnering for a Career Fair on Wednesday\, April&nbsp\;9th&nbsp\;from 11:30-12:30 pm at Kaplan University (4655&nbsp\;121st&nbsp\;Street\,&nbsp\;Urbandale). &nbsp\; Please pass on this information to anyone you believe would be interested in attending.</span><br style="color: rgb(0\, 0\, 0)\; font-family: Arial\, Helvetica\, 'MS Sans Serif'\, sans-serif\; font-size: 11.199999809265137px\; line-height: normal\;" />\n<span style="color: rgb(0\, 0\, 0)\; font-family: Arial\, Helvetica\, 'MS Sans Serif'\, sans-serif\; font-size: 11.199999809265137px\; line-height: normal\;">&nbsp\;</span>\n\n<div style="color: rgb(0\, 0\, 0)\; font-family: Arial\, Helvetica\, 'MS Sans Serif'\, sans-serif\; font-size: 11.199999809265137px\; line-height: normal\;">This event is free and open to the public.<br />\n<br />\nFor questions\, please contact Jami Olson\, Career Services Coordinator\, &nbsp\;at 515-727-6817 or jolson2@kaplan.edu.<br />\n<br />\n**Please note: Company Booths are SOLD OUT</div>\n
LOCATION:Kaplan University (4655 N.W. 121st St\, Urbandale)
UID:e.1185.3658
SEQUENCE:3
DTSTAMP:20260419T175933Z
URL:http://getaquote-mobile.uniquelyurbandale.com/events/details/kaplan-university-and-urbandale-chamber-career-fair-and-interview-day-04-09-2014-3658
END:VEVENT

END:VCALENDAR
