BEGIN:VCALENDAR
VERSION:2.0
PRODID:-//ChamberMaster//Event Calendar 2.0//EN
METHOD:PUBLISH
X-PUBLISHED-TTL:P3D
REFRESH-INTERVAL:P3D
CALSCALE:GREGORIAN
BEGIN:VEVENT
DTSTART:20141120T173000Z
DTEND:20141120T190000Z
X-MICROSOFT-CDO-ALLDAYEVENT:FALSE
SUMMARY:Joint Membership Luncheon\, Hosted by Urbandale\, Johnston\, Grimes and Ankeny Chambers
DESCRIPTION:Join us for a Joint Legislative Luncheon with the Johnston\, Ankeny\, Grimes and Polk City Chambers!\n\nTopic: Joint Legislative Luncheon\n\nLocation: Hilton Garden Inn (8600 Northpark Dr)\n\nTime: 11:30-1 pm\n\nCost: $20/members $30/nonmembers\n\nEach Chamber is taking their own registrations so be sure to register with one of us.\n\nDeadline to register is Monday\, November 17th. Any registration that comes in after this deadline will be put on a waiting list and billed an additional $5 (if space allows).\n\nPrepayment is highly encouraged and appreciated.\n\nReservations not kept will be billed.\n\n\n\nRegistrations must be cancelled the day prior to the luncheon by 3 pm to receive a refund. If not\, you will still be billed. All cancelations must be made over the phone to ensure staff is aware of your cancelation. Thank you.
X-ALT-DESC;FMTTYPE=text/html:<p>Join us for a Joint Legislative Luncheon with the Johnston\, Ankeny\, Grimes and Polk City Chambers!</p>\n\n<p>Topic: Joint Legislative Luncheon<br />\nLocation: Hilton Garden Inn (8600 Northpark Dr)<br />\nTime: 11:30-1 pm</p>\n\n<p>Cost: $20/members $30/nonmembers<br />\nEach Chamber is taking their own registrations so be sure to register with one of us.</p>\n\n<p><span style="color:#FF0000\;"><strong>Deadline to register is Monday\, November 17th</strong></span>. Any registration that comes in after this deadline will be put on a waiting list and billed an additional $5 (if space allows).<br />\nPrepayment is highly encouraged and appreciated.<br />\nReservations not kept will be billed.<br />\n<br />\nRegistrations must be cancelled the day prior to the luncheon by 3 pm to receive a refund. If not\, you will still be billed. All cancelations must be made over the phone to ensure staff is aware of your cancelation. Thank you.</p>\n
LOCATION:Hilton Garden Inn (8600 Northpark Dr)
UID:e.1185.2900
SEQUENCE:3
DTSTAMP:20260419T165152Z
URL:http://getaquote-mobile.uniquelyurbandale.com/events/details/joint-membership-luncheon-hosted-by-urbandale-johnston-grimes-and-ankeny-chambers-11-20-2014-2900
END:VEVENT

END:VCALENDAR
