BEGIN:VCALENDAR
VERSION:2.0
PRODID:-//ChamberMaster//Event Calendar 2.0//EN
METHOD:PUBLISH
X-PUBLISHED-TTL:P3D
REFRESH-INTERVAL:P3D
CALSCALE:GREGORIAN
BEGIN:VEVENT
DTSTART:20151118T173000Z
DTEND:20151118T190000Z
X-MICROSOFT-CDO-ALLDAYEVENT:FALSE
SUMMARY:Joint Legislative Luncheon with Ankeny\, Grimes\, Johnston\, Polk City and Urbandale Chambers
DESCRIPTION:Please join us for a Joint Legislative Luncheon with the Ankeny\, Grimes\, Johnston\, Polk City and Urbandale Chambers\, Presented by Consolidated Communications and CenturyLink!\n\nTopic: Legislative Panel\n\nLocation: Hilton Garden Inn (8600 Northpark Dr\, Urbandale)\n\nTime: 11:30-1 pm\n\nCost: $20/members $30/nonmembers\n\nThank you to this month's sponsors: Hungry Boyz and BNI and this month's exhibitors: Sam & Louie's Pizza\n\n\n\nDeadline to register is 48 hours before event. Any registration that comes in after this deadline will be put on a waiting list and billed an additional $5 (if space allows).\n\nPrepayment is highly encouraged and appreciated.\n\nReservations not kept will be billed.\n\n\n\n\n\nRegistrations must be canceled the day prior to the luncheon by 12 pm in order to receive a credit. If not\, you will still be billed. All cancelations must be made over the phone to ensure staff is aware of your cancelation. Thank you.
X-ALT-DESC;FMTTYPE=text/html:<p>Please join us for a Joint Legislative Luncheon with the Ankeny\, Grimes\, Johnston\, Polk City and Urbandale Chambers\, <strong>Presented by Consolidated Communications&nbsp\;and CenturyLink!</strong></p>\n\n<p>Topic: Legislative Panel<br />\nLocation:&nbsp\;<span style="font-family:calibri\,sans-serif\;"><span style="font-size:11.0pt\;">Hilton Garden Inn (8600 Northpark Dr\, Urbandale)</span></span><br />\nTime: 11:30-1 pm</p>\n\n<p>Cost: $20/members $30/nonmembers</p>\n\n<p>Thank you to this month&#39\;s <u>sponsors</u>: Hungry Boyz and BNI and this month&#39\;s <u>exhibitors</u>: Sam &amp\; Louie&#39\;s Pizza<br />\n<br />\nDeadline to register is 48 hours before event. Any registration that comes in after this deadline will be put on a waiting list and billed an additional $5 (if space allows).<br />\nPrepayment is highly encouraged and appreciated.<br />\nReservations not kept will be billed.<br />\n<br />\n<br />\nRegistrations must be canceled the day prior to the luncheon by 12&nbsp\;pm in order to receive a credit. If not\, you will still be billed. All cancelations must be made over the phone to ensure staff is aware of your cancelation. Thank you.</p>\n
LOCATION:Des Moines Urbandale Hilton Garden Inn (8600 Northpark Drive)
UID:e.1185.4033
SEQUENCE:3
DTSTAMP:20260420T101137Z
URL:http://getaquote-mobile.uniquelyurbandale.com/events/details/joint-legislative-luncheon-with-ankeny-grimes-johnston-polk-city-and-urbandale-chambers-11-18-2015-4033
END:VEVENT

END:VCALENDAR
