BEGIN:VCALENDAR
VERSION:2.0
PRODID:-//ChamberMaster//Event Calendar 2.0//EN
METHOD:PUBLISH
X-PUBLISHED-TTL:P3D
REFRESH-INTERVAL:P3D
CALSCALE:GREGORIAN
BEGIN:VEVENT
DTSTART;VALUE=DATE:20160324
DTEND;VALUE=DATE:20160325
TRANSP:TRANSPARENT
X-MICROSOFT-CDO-ALLDAYEVENT:TRUE
SUMMARY:Join us to support Mosaic @ Granite City -- Thursday March 24th
DESCRIPTION:Join us at Granite City Thursday\, March 24th to support Mosaic! Come out at your leisure for lunch or dinner (or both!) and 10% of your bill will be donated back to them. To-go orders\, caterings and gift cards also count if you can't make it in! This is a great excuse to take the family out or get a few friends together to enjoy our seasonal brews and made-from-scratch entrees. Be sure to mention this post or show this flyer to your server! We look forward to seeing you there!
X-ALT-DESC;FMTTYPE=text/html:<span style="background-color:rgb(250\, 250\, 250)\; color:rgb(66\, 66\, 66)\; font-family:arial\,helvetica\,sans-serif\; font-size:12px">Join us at Granite City Thursday\, March 24th to support Mosaic! Come out at your leisure for lunch or dinner (or both!) and 10% of your bill will be donated back to them. To-go orders\, caterings and gift cards also count if you can&#39\;t make it in! This is a great excuse to take the family out or get a few friends together to enjoy our seasonal brews and made-from-scratch entrees. Be sure to mention this post or show this flyer to your server! We look forward to seeing you there!</span>
LOCATION:Granite City
UID:e.1185.4738
SEQUENCE:3
DTSTAMP:20260420T170158Z
URL:http://getaquote-mobile.uniquelyurbandale.com/events/details/join-us-to-support-mosaic-granite-city-thursday-march-24th-03-24-2016-4738
END:VEVENT

END:VCALENDAR
