BEGIN:VCALENDAR
VERSION:2.0
PRODID:-//ChamberMaster//Event Calendar 2.0//EN
METHOD:PUBLISH
X-PUBLISHED-TTL:P3D
REFRESH-INTERVAL:P3D
CALSCALE:GREGORIAN
BEGIN:VEVENT
DTSTART;VALUE=DATE:20160327
DTEND;VALUE=DATE:20160328
TRANSP:TRANSPARENT
X-MICROSOFT-CDO-ALLDAYEVENT:TRUE
SUMMARY:Join us for Granite City's Easter Brunch -- Sunday\, March 27th
DESCRIPTION:Join us for our Easter brunch Sunday\, March 27th from 8am -3pm! Gather round with loved ones and enjoy entrees like Blackened Salmon w/ Mango Salsa\, Prime Rib\, RumChata French Toast\, & Glazed Ham to name a few. We'll keep the classics comin' too with our fabulous cheesy hashbrowns\, bacon and sausage\, Build-Your-Own Eggs Benedict and Omelet bar\, as well as a variety of desserts that are sure to satisfy any sweet tooth. Did I mention our Bottomless Mimosas & Bloody Marys too? :) Call now to reserve a table!
X-ALT-DESC;FMTTYPE=text/html:<span style="color:rgb(66\, 66\, 66)\; font-family:arial\,helvetica\,sans-serif\; font-size:12px">Join us for our Easter brunch Sunday\, March 27th from 8am -3pm! Gather round with loved ones and enjoy entrees like Blackened Salmon w/ Mango Salsa\, Prime Rib\, RumChata French Toast\, &amp\; Glazed Ham to name a few. We&#39\;ll keep the classics comin&#39\; too with our fabulous cheesy hashbrowns\, bacon and sausage\, Build-Your-Own Eggs Benedict and Omelet bar\, as well as a variety of desserts that are sure to satisfy any sweet tooth. Did I mention our Bottomless Mimosas &amp\; Bloody Marys too? :) Call now to reserve a table!</span>
LOCATION:Granite City Food & Brewery\, Clive
UID:e.1185.4739
SEQUENCE:3
DTSTAMP:20260420T170153Z
URL:http://getaquote-mobile.uniquelyurbandale.com/events/details/join-us-for-granite-city-s-easter-brunch-sunday-march-27th-03-27-2016-4739
END:VEVENT

END:VCALENDAR
