BEGIN:VCALENDAR
VERSION:2.0
PRODID:-//ChamberMaster//Event Calendar 2.0//EN
METHOD:PUBLISH
X-PUBLISHED-TTL:P3D
REFRESH-INTERVAL:P3D
CALSCALE:GREGORIAN
BEGIN:VEVENT
DTSTART:20170513T140000Z
DTEND:20170513T190000Z
X-MICROSOFT-CDO-ALLDAYEVENT:FALSE
SUMMARY:John Deere Ride & Drive
DESCRIPTION:Join Van Wall Equipment for a day of family fun on the front lawns of Living History Farms. Take a ride in a huge John Deere combine or tractor\, adults can test drive several different types of mowers. Grab a FREE lunch and have mom pick up her FREE pair of gardening gloves while you are there. Kids can also plant a flower to take home\, provided by Earl May.
X-ALT-DESC;FMTTYPE=text/html:Join Van Wall Equipment for a day of family fun on the front lawns of Living History Farms. Take a ride in a huge John Deere combine or tractor\, adults can test drive several different types of mowers. Grab a FREE lunch and have mom pick up her FREE pair of gardening gloves while you are there. Kids can also plant a flower to take home\, provided by Earl May.
LOCATION:Living History Farms
UID:e.1185.6209
SEQUENCE:3
DTSTAMP:20260421T120048Z
URL:http://getaquote-mobile.uniquelyurbandale.com/events/details/john-deere-ride-drive-6209
END:VEVENT

END:VCALENDAR
