BEGIN:VCALENDAR
VERSION:2.0
PRODID:-//ChamberMaster//Event Calendar 2.0//EN
METHOD:PUBLISH
X-PUBLISHED-TTL:P3D
REFRESH-INTERVAL:P3D
CALSCALE:GREGORIAN
BEGIN:VEVENT
DTSTART:20170614T140000Z
DTEND:20170614T210000Z
X-MICROSOFT-CDO-ALLDAYEVENT:FALSE
SUMMARY:Job Fair
DESCRIPTION:Meet Rose International employees at our job fair on June 14! We are hiring several customer service (inbound call center) representatives. Dress professionally and stop by any time during the open hours for an on-the-spot interview. Bring your resume and your bubbly personality\, and walk away with an exciting new job!\n\nTime: 9:00 - 11:30 a.m. and 1:30 - 4:00 p.m.\n\nLocation: 12421 Meredith Dr. in Urbandale Job Title: Customer Service Representative (Inbound Call Center) Shifts: 8 hour shifts between 6:00 a.m. and 9:00 p.m. Pay: $16/hour Duration: 6 months Skills:   Ability to provide quality customer service in a high volume call center environment   Aptitude to quickly learn benefit plans and explain them to customers   Reliable\, professional\, and service oriented individuals   New Graduates and Veterans welcome!
X-ALT-DESC;FMTTYPE=text/html:Meet Rose International employees at our job fair on June 14! We are hiring several customer service (inbound call center) representatives. Dress professionally and stop by any time during the open hours for an on-the-spot interview. Bring your resume and your bubbly personality\, and walk away with an exciting new job!<br />\nTime: 9:00 - 11:30 a.m. and 1:30 - 4:00 p.m.<br />\nLocation: 12421 Meredith Dr. in Urbandale Job Title: Customer Service Representative (Inbound Call Center) Shifts: 8 hour shifts between 6:00 a.m. and 9:00 p.m. Pay: $16/hour Duration: 6 months Skills: &bull\; Ability to provide quality customer service in a high volume call center environment &bull\; Aptitude to quickly learn benefit plans and explain them to customers &bull\; Reliable\, professional\, and service oriented individuals &bull\; New Graduates and Veterans welcome!
LOCATION:
UID:e.1185.6571
SEQUENCE:3
DTSTAMP:20260421T132237Z
URL:http://getaquote-mobile.uniquelyurbandale.com/events/details/job-fair-6571
END:VEVENT

END:VCALENDAR
