BEGIN:VCALENDAR
VERSION:2.0
PRODID:-//ChamberMaster//Event Calendar 2.0//EN
METHOD:PUBLISH
X-PUBLISHED-TTL:P3D
REFRESH-INTERVAL:P3D
CALSCALE:GREGORIAN
BEGIN:VEVENT
DTSTART:20220129T163000Z
DTEND:20220129T180000Z
X-MICROSOFT-CDO-ALLDAYEVENT:FALSE
SUMMARY:January Talk with Officials\, Presented by Jon Smith with Iowa Realty
DESCRIPTION:Talk with Officials is a forum for the business community to connect with elected officials representing Urbandale at the State\, County\, City and School District. \n\n\n\nThe Talk with Officials events are open to the general public and held on the last Saturday of each respective month.  Registration is required and this month's event is VIRTUAL ONLY due to the rising Covid Positivity Rate in Polk County.\n\n\n\nPLEASE SUBMIT YOUR QUESTIONS IN ADVANCE by emailing them to tmenke@urbandalechamber.com.  Questions are due by Monday\, January 24\, 2022 by 5 p.m.\n\n\n\nInvited elected officials include: Urbandale Mayor Robert Andeweg\, Senator Brad Zaun (R)\, Representative John Forbes (D)\, Representative Eddie Andrews (R)\, Polk County Supervisor Robert Brownell (R) and Katherine Howsare\, Urbandale School Board President. \n\n\n\nA special thank you to Jon Smith with Iowa Realty for sponsoring the Talk with Officials Series in 2022 and to the University of Iowa Hospital & Clinics and Anderson Properties for sponsoring January session.
X-ALT-DESC;FMTTYPE=text/html:Talk with Officials is a forum for the business community to connect with elected officials representing Urbandale at the State\, County\, City and School District.&nbsp\;<br style="font-family: arial\, sans-serif\; font-size: 14px\;">\n<br style="font-family: arial\, sans-serif\; font-size: 14px\;">\nThe Talk with Officials events are open to the general public and held on the last Saturday of each respective month.&nbsp\; Registration is required and this month's event is VIRTUAL ONLY due to the rising Covid Positivity Rate in Polk County.<br>\n<br>\n<strong><span style="color:#FF0000\;">PLEASE SUBMIT YOUR QUESTIONS IN ADVANCE</span> by emailing them to tmenke@urbandalechamber.com.&nbsp\; Questions are due by Monday\, January 24\, 2022 by 5 p.m.</strong><br>\n<br>\nInvited elected officials include: Urbandale Mayor Robert Andeweg\, Senator Brad Zaun (R)\, Representative John Forbes (D)\, Representative Eddie Andrews (R)\, Polk County Supervisor Robert Brownell (R) and Katherine Howsare\, Urbandale School Board President.&nbsp\;<br>\n<br>\nA special thank you to <a href="https://businesses.uniquelyurbandale.com/list/member/jon-smith-iowa-realty-3425">Jon Smith with Iowa Realty</a> for sponsoring the Talk with Officials Series in 2022 and to the <a href="https://businesses.uniquelyurbandale.com/list/member/university-of-iowa-health-care-4671">University of Iowa Hospital &amp\; Clinics</a>&nbsp\;and <a href="https://businesses.uniquelyurbandale.com/list/member/anderson-properties-1015">Anderson Properties</a> for sponsoring January session.&nbsp\;&nbsp\;
LOCATION:VIRTUAL ONLY
UID:e.1185.11264
SEQUENCE:3
DTSTAMP:20260425T014011Z
URL:http://getaquote-mobile.uniquelyurbandale.com/events/details/january-talk-with-officials-presented-by-jon-smith-with-iowa-realty-01-29-2022-11264
END:VEVENT

END:VCALENDAR
