BEGIN:VCALENDAR
VERSION:2.0
PRODID:-//ChamberMaster//Event Calendar 2.0//EN
METHOD:PUBLISH
X-PUBLISHED-TTL:P3D
REFRESH-INTERVAL:P3D
CALSCALE:GREGORIAN
BEGIN:VEVENT
DTSTART:20170714T210000Z
DTEND:20170715T013000Z
X-MICROSOFT-CDO-ALLDAYEVENT:FALSE
SUMMARY:It's a Date with CrossRoads Shooting Sports!
DESCRIPTION:Special Event Night @ CrossRoads   Ever had the opportunity to appreciate the difference between an award winning dry white and fruity summer blend?\nIncludes:\n\n** Special pricing for Date Night couple\n\n** Lane Fees\, KeepSake Target \, Safety Equipment\n\n** Half Price Firearm Rentals\n\n** Opportunity to sample award winning wines from Summerset Winery of Indianola\n\n** Hors d'oeuvre's & light seasonal beverages
X-ALT-DESC;FMTTYPE=text/html:<h3 style="text-align:center"><span style="color:rgb(128\, 0\, 0)">Special Event Night @ CrossRoads &ndash\; Ever had the opportunity to appreciate the difference between an award winning dry white and fruity summer blend?</span></h3>\n<strong>Includes:</strong><br />\n<span style="color:rgb(102\, 102\, 102)\; font-family:lato\,sans-serif\; font-size:16px">** Special pricing for Date Night couple</span><br />\n<span style="color:rgb(102\, 102\, 102)\; font-family:lato\,sans-serif\; font-size:16px">** Lane Fees\, KeepSake Target \, Safety Equipment</span><br />\n<span style="color:rgb(102\, 102\, 102)\; font-family:lato\,sans-serif\; font-size:16px">** Half Price Firearm Rentals<br />\n** Opportunity to sample award winning wines from Summerset Winery of Indianola<br />\n** Hors d&rsquo\;oeuvre&rsquo\;s &amp\; light seasonal beverages</span><br />\n&nbsp\;
LOCATION:CrossRoads Shooting Sports in Johnston
UID:e.1185.6601
SEQUENCE:3
DTSTAMP:20260421T151954Z
URL:http://getaquote-mobile.uniquelyurbandale.com/events/details/it-s-a-date-with-crossroads-shooting-sports-6601
END:VEVENT

END:VCALENDAR
