BEGIN:VCALENDAR
VERSION:2.0
PRODID:-//ChamberMaster//Event Calendar 2.0//EN
METHOD:PUBLISH
X-PUBLISHED-TTL:P3D
REFRESH-INTERVAL:P3D
CALSCALE:GREGORIAN
BEGIN:VEVENT
DTSTART:20160716T140000Z
DTEND:20160716T210000Z
X-MICROSOFT-CDO-ALLDAYEVENT:FALSE
SUMMARY:Ioway Culture Day
DESCRIPTION:The people of the Ioway nation were some of Iowa?s first farmers! Explore this Native American culture which gave Iowa its name. Hands-on activities offer visitors an opportunity to experience how the Ioway built their homes\, prepared food\, and farmed. Guest presenters will share their own personal expertise in Ioway culture and technology. Be sure to allow time to ride the tractor cart out to the 1700 Ioway Farm! The last tractor cart out to the Ioway Farm will leave at 2pm. Activities run 10:00am - 3:00pm.
X-ALT-DESC;FMTTYPE=text/html:The people of the&nbsp\;Ioway&nbsp\;nation were some of Iowa?s first farmers! Explore this Native American culture which gave Iowa its name. Hands-on activities offer visitors an opportunity to experience how the&nbsp\;Ioway&nbsp\;built their homes\, prepared food\, and farmed.&nbsp\;Guest presenters will share their own personal expertise in&nbsp\;Ioway&nbsp\;culture and technology.&nbsp\;Be sure to allow time to ride the tractor cart out to the 1700 Ioway Farm! The last tractor cart out to the Ioway&nbsp\;Farm will leave at&nbsp\;2pm. Activities run 10:00am - 3:00pm.
LOCATION:Living History Farms 11121 Hickman Road Urbandale\, IA 50322
UID:e.1185.4698
SEQUENCE:3
DTSTAMP:20260420T212503Z
URL:http://getaquote-mobile.uniquelyurbandale.com/events/details/ioway-culture-day-07-16-2016-4698
END:VEVENT

END:VCALENDAR
