BEGIN:VCALENDAR
VERSION:2.0
PRODID:-//ChamberMaster//Event Calendar 2.0//EN
METHOD:PUBLISH
X-PUBLISHED-TTL:P3D
REFRESH-INTERVAL:P3D
CALSCALE:GREGORIAN
BEGIN:VEVENT
DTSTART:20160128T160000Z
DTEND:20160129T003000Z
X-MICROSOFT-CDO-ALLDAYEVENT:FALSE
SUMMARY:Introducing World's First 3D Printer!
DESCRIPTION:Introducing the world's first carbon fiber 3D printer! For more information\, please RSVP to sales@rapidsrepro.com or call (800) 383-1223.
X-ALT-DESC;FMTTYPE=text/html:Introducing the world&#39\;s first carbon fiber 3D printer! For more information\, please RSVP to sales@rapidsrepro.com or call (800) 383-1223.
LOCATION:3976 NW Urbandale Dr. Urbandale\, IA 50322
UID:e.1185.4671
SEQUENCE:3
DTSTAMP:20260420T124557Z
URL:http://getaquote-mobile.uniquelyurbandale.com/events/details/introducing-world-s-first-3d-printer-01-28-2016-4671
END:VEVENT

END:VCALENDAR
