BEGIN:VCALENDAR
VERSION:2.0
PRODID:-//ChamberMaster//Event Calendar 2.0//EN
METHOD:PUBLISH
X-PUBLISHED-TTL:P3D
REFRESH-INTERVAL:P3D
CALSCALE:GREGORIAN
BEGIN:VEVENT
DTSTART:20190820T230000Z
DTEND:20190821T000000Z
X-MICROSOFT-CDO-ALLDAYEVENT:FALSE
SUMMARY:Instant Pot 101
DESCRIPTION:A class for busy people who still want to cook healthy meals. Presented by Dinner Dispatch.
X-ALT-DESC;FMTTYPE=text/html:A class for busy people who still want to cook healthy meals. Presented by Dinner Dispatch.
LOCATION:Urbandale Public Library
UID:e.1185.10008
SEQUENCE:3
DTSTAMP:20260423T061208Z
URL:http://getaquote-mobile.uniquelyurbandale.com/events/details/instant-pot-101-10008
END:VEVENT

END:VCALENDAR
