BEGIN:VCALENDAR
VERSION:2.0
PRODID:-//ChamberMaster//Event Calendar 2.0//EN
METHOD:PUBLISH
X-PUBLISHED-TTL:P3D
REFRESH-INTERVAL:P3D
CALSCALE:GREGORIAN
BEGIN:VEVENT
DTSTART:20140211T233000Z
DTEND:20140212T003000Z
X-MICROSOFT-CDO-ALLDAYEVENT:FALSE
SUMMARY:Informational meeting to discuss the Chamber's Taste of Cuba trip
DESCRIPTION:Experience a Taste of Cuba on October 23\, 2014 with the Urbandale Chamber of Commerce!  Representatives from Chamber Explorations will be on hand on Tuesday\, February 11th from 5:30 - 6:30 p.m. for a presentation of what to expect from the Taste of Cuba trip and answer any questions you may have.  \n\n\n\nThe informational session is free to attend and will be held at the Urbandale Chamber of Commerce office located at 2830 100th St.\, Ste. 110\, Urbandale.  The new office is located in the white building at the corner of Justin Drive and 100th Street.\n\n\n\nRSVPs are requested.
X-ALT-DESC;FMTTYPE=text/html:Experience a Taste of Cuba on October 23\, 2014 with the Urbandale Chamber of Commerce! &nbsp\;Representatives from Chamber Explorations will be on hand on Tuesday\, February 11th from 5:30 - 6:30 p.m. for a presentation of what to expect from the Taste of Cuba trip and answer any questions you may have. &nbsp\;<br />\n<br />\nThe informational session is free to attend and will be held at the Urbandale Chamber of Commerce office located at 2830 100th St.\, Ste. 110\, Urbandale. &nbsp\;The new office is located in the white building at the corner of Justin Drive and 100th Street.<br />\n<br />\nRSVPs are requested.
LOCATION:Urbandale Chamber of Commerce RODAN Board Room 2830 100th St.\, Ste. 110 Urbandale\, IA 50322
UID:e.1185.3819
SEQUENCE:3
DTSTAMP:20260419T211911Z
URL:http://getaquote-mobile.uniquelyurbandale.com/events/details/informational-meeting-to-discuss-the-chamber-s-taste-of-cuba-trip-02-11-2014-3819
END:VEVENT

END:VCALENDAR
