BEGIN:VCALENDAR
VERSION:2.0
PRODID:-//ChamberMaster//Event Calendar 2.0//EN
METHOD:PUBLISH
X-PUBLISHED-TTL:P3D
REFRESH-INTERVAL:P3D
CALSCALE:GREGORIAN
BEGIN:VEVENT
DTSTART:20160801T180000Z
DTEND:20160801T200000Z
X-MICROSOFT-CDO-ALLDAYEVENT:FALSE
SUMMARY:Info Session - Living History Farms Master Plan
DESCRIPTION:Living History Farms is seeking proposals to review and refine the museum's mission\, enhance development of our facilities\, and explore new opportunities for land use. LHF will host an informational session regarding the request for proposal for a new Master Plan. Topics covered will include: overview & history of Living History Farms\, current programming\, financial trend analysis\, current overview of land use\, and a Q&A session with the management team. Find more info at www.LHF.org/RFP and RSVP to rhaus@lhf.org
X-ALT-DESC;FMTTYPE=text/html:Living History Farms is seeking proposals to review and refine the museum&#39\;s mission\, enhance development of our facilities\, and explore new opportunities for land use. LHF will host an informational session regarding the request for proposal for a new Master Plan. Topics covered will include: overview &amp\; history of Living History Farms\, current programming\, financial trend analysis\, current overview of land use\, and a Q&amp\;A session with the management team. Find more info at www.LHF.org/RFP and RSVP to rhaus@lhf.org
LOCATION:Living History Farms Visitor Center 11121 Hickman Rd\, Urbandale\, IA 50322
UID:e.1185.4868
SEQUENCE:3
DTSTAMP:20260420T225850Z
URL:http://getaquote-mobile.uniquelyurbandale.com/events/details/info-session-living-history-farms-master-plan-08-01-2016-4868
END:VEVENT

END:VCALENDAR
