BEGIN:VCALENDAR
VERSION:2.0
PRODID:-//ChamberMaster//Event Calendar 2.0//EN
METHOD:PUBLISH
X-PUBLISHED-TTL:P3D
REFRESH-INTERVAL:P3D
CALSCALE:GREGORIAN
BEGIN:VEVENT
DTSTART:20160704T140000Z
DTEND:20160704T210000Z
X-MICROSOFT-CDO-ALLDAYEVENT:FALSE
SUMMARY:Independence Day
DESCRIPTION:Enjoy an old-fashioned Fourth with a historic Independence Day celebration in the 1875 town of Walnut Hill. Fun for the entire family including pie eating contests\, foot races\, spelling bees\, watermelon seed spitting contests and more! Games begin at 11am\; then enjoy historic entertainment and an 1875-rules baseball game. Hear the Walnut Hill mayor read the Declaration of Independence in the Church of the Land and then march in a Victorian street parade. The Bluestockings\, our 19th century baseball team\, play at 2:30 pm.
X-ALT-DESC;FMTTYPE=text/html:Enjoy an old-fashioned Fourth with a historic Independence Day celebration in the 1875 town of Walnut Hill. Fun for the entire family including pie eating contests\, foot races\, spelling bees\, watermelon seed spitting contests and more! Games begin at 11am\; then enjoy historic entertainment and an 1875-rules baseball game. Hear the Walnut Hill mayor read the Declaration of Independence in the Church of the Land and then march in a Victorian street parade. The Bluestockings\, our 19th&nbsp\;century baseball team\, play at 2:30 pm.
LOCATION:Living History Farms 11121 Hickman Road Urbandale\, IA 50322
UID:e.1185.4697
SEQUENCE:3
DTSTAMP:20260420T212157Z
URL:http://getaquote-mobile.uniquelyurbandale.com/events/details/independence-day-07-04-2016-4697
END:VEVENT

END:VCALENDAR
