BEGIN:VCALENDAR
VERSION:2.0
PRODID:-//ChamberMaster//Event Calendar 2.0//EN
METHOD:PUBLISH
X-PUBLISHED-TTL:P3D
REFRESH-INTERVAL:P3D
CALSCALE:GREGORIAN
BEGIN:VEVENT
DTSTART:20190801T133000Z
DTEND:20190801T143000Z
X-MICROSOFT-CDO-ALLDAYEVENT:FALSE
SUMMARY:How to Take Advantage of Digital Media Today
DESCRIPTION:This fun and interactive seminar is led by Richard Dedor\, one of the two founders of Sprout Media\, Founded in 2015 by two guys tired of seeing the same 'ol marketing tactics\, Sprout Media approaches their clients with an understanding of today's consumers and helps prepare them for tomorrow's opportunities. Whether it is Facebook\, Google\, or Podcasts\, today's consumers has never been easier to reach\; the question is: Are you reaching them?
X-ALT-DESC;FMTTYPE=text/html:This fun and interactive seminar is led by Richard Dedor\, one of the two founders of Sprout Media\, Founded in 2015 by two guys tired of seeing the same &#39\;ol marketing tactics\, Sprout Media approaches their clients with an understanding of today&#39\;s consumers and helps prepare them for tomorrow&#39\;s opportunities. Whether it is Facebook\, Google\, or Podcasts\, today&#39\;s consumers has never been easier to reach\; the question is: Are you reaching them?
LOCATION:Urbandale Chamber Office (2830 100th Street Urbandale)
UID:e.1185.10013
SEQUENCE:3
DTSTAMP:20260423T061623Z
URL:http://getaquote-mobile.uniquelyurbandale.com/events/details/how-to-take-advantage-of-digital-media-today-10013
END:VEVENT

END:VCALENDAR
