BEGIN:VCALENDAR
VERSION:2.0
PRODID:-//ChamberMaster//Event Calendar 2.0//EN
METHOD:PUBLISH
X-PUBLISHED-TTL:P3D
REFRESH-INTERVAL:P3D
CALSCALE:GREGORIAN
BEGIN:VEVENT
DTSTART:20141030T133000Z
DTEND:20141030T170000Z
X-MICROSOFT-CDO-ALLDAYEVENT:FALSE
SUMMARY:How to Manage Problem Employees-Glenn Shepard Seminar
DESCRIPTION:The Urbandale Chamber is thrilled to bring back Glenn Shepard in 2014 on a new topic: How to Manage Problem Employees.\n\nDon't delay!  Space is limited! \n\nDate: Thursday\, October 30th\n\nTime: 8:30-12:00\n\nLocation: Ramada Tropics Resort and Conference Center (5000 Merle Hay Road\, Urbandale)\n\nCost: $129 for Urbandale Chamber members\n\n$149 for non-Urbandale Chamber members\n\n When three or more enroll\, the 4th person is FREE!\n\n\n\nLearn how to hire with confidence\, fire without fear\, tame toxic employees and put your team on the fast track to record-shattering success!\n\n\n\nRecognized as a leader in fighting the declining American work ethic and increasing entitlement mentality\, Glenn Shepard is in the top 5% of professional speakers (based on speaking fees) and in the top 1% of authors who've had a #1 Best Seller (six books overall).  Glenn guarantees if you aren't completely satisfied with the tools\, strategies and tactics you learn at his seminar\, he will return 100% of your tuition-no questions asked!
X-ALT-DESC;FMTTYPE=text/html:<div><span style="font-size: 12px\; line-height: 1.6\;">The Urbandale Chamber is thrilled to bring back Glenn Shepard in 2014 on a new topic: How to Manage Problem Employees.<br />\nDon&#39\;t delay! &nbsp\;Space is limited!&nbsp\;</span></div>\n\n<div><span style="font-size: 12px\;">Date: Thursday\, October 30th<br />\nTime: 8:30-12:00<br />\nLocation: Ramada Tropics Resort and Conference Center (5000 Merle Hay Road\, Urbandale)</span><br />\n<span style="font-size: 12px\;">Cost: $129 for Urbandale Chamber members<br />\n$149 for non-Urbandale Chamber members<br />\n&#8203\;When three or more enroll\, the 4th person is FREE!<br />\n<br />\nLearn how to hire with confidence\, fire without fear\, tame toxic employees and put your team on the fast track to record-shattering success!<br />\n<br />\nRecognized as a leader in fighting the declining American work ethic and increasing entitlement mentality\, Glenn Shepard is in the top 5% of professional speakers (based on speaking fees) and in the top 1% of authors who&#39\;ve had a #1 Best Seller (six books overall). &nbsp\;<strong>Glenn guarantees if you aren&#39\;t completely satisfied with the tools\, strategies and tactics you learn at his seminar\, he will return 100% of your tuition-no questions asked!</strong></span></div>\n
LOCATION:Ramada Tropics Resort and Conference Center (5000 Merle Hay Road\, Urbandale)
UID:e.1185.3919
SEQUENCE:3
DTSTAMP:20260419T152631Z
URL:http://getaquote-mobile.uniquelyurbandale.com/events/details/how-to-manage-problem-employees-glenn-shepard-seminar-10-30-2014-3919
END:VEVENT

END:VCALENDAR
