BEGIN:VCALENDAR
VERSION:2.0
PRODID:-//ChamberMaster//Event Calendar 2.0//EN
METHOD:PUBLISH
X-PUBLISHED-TTL:P3D
REFRESH-INTERVAL:P3D
CALSCALE:GREGORIAN
BEGIN:VEVENT
DTSTART:20160726T223000Z
DTEND:20160726T233000Z
X-MICROSOFT-CDO-ALLDAYEVENT:FALSE
SUMMARY:Hotel Renovo's 1st Birthday Party
DESCRIPTION:Happy Birthday Hotel Renovo It's our 1st Birthday here at Renovo\, so let us eat cake! Join us for live music by Jade & Company and enjoy birthday cake and punch! While you're here\, sample some brew from Firetrucker Brewery. Date: Tuesday\, July 26th\, 2016 Time: 5:30-6:30pm Place: Hotel Renovo
X-ALT-DESC;FMTTYPE=text/html:Happy Birthday Hotel Renovo It&rsquo\;s our 1st Birthday here at Renovo\, so let us eat cake! Join us for live music by Jade &amp\; Company and enjoy birthday cake and punch! While you&rsquo\;re here\, sample some brew from Firetrucker Brewery. Date: Tuesday\, July 26th\, 2016 Time: 5:30-6:30pm Place: Hotel Renovo
LOCATION:Hotel Renovo 11167 Hickman Rd Urbandale
UID:e.1185.4851
SEQUENCE:3
DTSTAMP:20260420T212741Z
URL:http://getaquote-mobile.uniquelyurbandale.com/events/details/hotel-renovo-s-1st-birthday-party-07-26-2016-4851
END:VEVENT

END:VCALENDAR
