BEGIN:VCALENDAR
VERSION:2.0
PRODID:-//ChamberMaster//Event Calendar 2.0//EN
METHOD:PUBLISH
X-PUBLISHED-TTL:P3D
REFRESH-INTERVAL:P3D
CALSCALE:GREGORIAN
BEGIN:VEVENT
DTSTART:20190324T180000Z
DTEND:20190324T210000Z
X-MICROSOFT-CDO-ALLDAYEVENT:FALSE
SUMMARY:Hotel Renovo Bridal Open House
DESCRIPTION:Come experience all that Hotel Renovo has to offer for your special day while you sip\, sample and gather ideas! Mingle with local wedding professionals/vendors\, tour our unique event spaces\, visit our beauty lounge\, bridal suites & more. Recently awarded "Best Hotel Venue" at the Wedding Choice Awards-with Hotel Renovo\, you will enjoy amenities and services that are uniquely tailored to your event. Engagement parties\, welcome reception\, bridal showers\, bachelorette parties\, rehearsal dinners\, wedding receptions\, nuptials\, and gift openings- Hotel Renovo provides a unique and beautiful backdrop for your wedding that reflects who you are as a couple. Complimentary Admission-RVSP to reserve your spot! For a full list of vendors & additional details please check out FB page. Let us be your something blue!
X-ALT-DESC;FMTTYPE=text/html:Come experience all that Hotel Renovo has to offer for your special day while you sip\, sample and gather ideas! Mingle with local wedding professionals/vendors\, tour our unique event spaces\, visit our beauty lounge\, bridal suites &amp\; more. Recently awarded &quot\;Best Hotel Venue&quot\; at the Wedding Choice Awards-with Hotel Renovo\, you will enjoy amenities and services that are uniquely tailored to your event. Engagement parties\, welcome reception\, bridal showers\, bachelorette parties\, rehearsal dinners\, wedding receptions\, nuptials\, and gift openings- Hotel Renovo provides a unique and beautiful backdrop for your wedding that reflects who you are as a couple. Complimentary Admission-RVSP to reserve your spot! For a full list of vendors &amp\; additional details please check out FB page. Let us be your something blue!
LOCATION:Hotel Renovo 11167 Hickman Rd-Urbandale
UID:e.1185.9682
SEQUENCE:3
DTSTAMP:20260422T202242Z
URL:http://getaquote-mobile.uniquelyurbandale.com/events/details/hotel-renovo-bridal-open-house-03-24-2019-9682
END:VEVENT

END:VCALENDAR
