BEGIN:VCALENDAR
VERSION:2.0
PRODID:-//ChamberMaster//Event Calendar 2.0//EN
METHOD:PUBLISH
X-PUBLISHED-TTL:P3D
REFRESH-INTERVAL:P3D
CALSCALE:GREGORIAN
BEGIN:VEVENT
DTSTART:20161027T220000Z
DTEND:20161028T000000Z
X-MICROSOFT-CDO-ALLDAYEVENT:FALSE
SUMMARY:Homemakers Trick or Treat Night
DESCRIPTION:Put your Halloween costumes on and bring the whole family to Homemakers for our Annual Trick-or-Treat Night! We're bringing you an evening of free family fun! Kids will love showing off their costumes and filling their bags with tons of goodies and parents will appreciate the cozy\, calm atmosphere you won't find anywhere else. *While quantities last. Children must be accompanied by an adult.
X-ALT-DESC;FMTTYPE=text/html:Put your Halloween costumes on and bring the whole family to Homemakers for our Annual Trick-or-Treat Night! We&rsquo\;re bringing you an evening of free family fun! Kids will love showing off their costumes and filling their bags with tons of goodies&mdash\;and parents will appreciate the cozy\, calm atmosphere you won&rsquo\;t find anywhere else. *While quantities last. Children must be accompanied by an adult.
LOCATION:Homemakers Furniture
UID:e.1185.4916
SEQUENCE:3
DTSTAMP:20260421T022317Z
URL:http://getaquote-mobile.uniquelyurbandale.com/events/details/homemakers-trick-or-treat-night-4916
END:VEVENT

END:VCALENDAR
