BEGIN:VCALENDAR
VERSION:2.0
PRODID:-//ChamberMaster//Event Calendar 2.0//EN
METHOD:PUBLISH
X-PUBLISHED-TTL:P3D
REFRESH-INTERVAL:P3D
CALSCALE:GREGORIAN
BEGIN:VEVENT
DTSTART:20161112T170000Z
DTEND:20161112T220000Z
X-MICROSOFT-CDO-ALLDAYEVENT:FALSE
SUMMARY:Homemakers Free Pictures with Santa
DESCRIPTION:We're always on Santa's nice list that's why he visits Homemakers first every year! We're excited to kick off the holiday season in style with Santa and Mrs. Claus! They'll be making a weekend trip to Des Moines to see all the good boys and girls we know\, so bring your Christmas lists and say "cheese!" You'll get a free picture with Santa and Mrs. Claus the perfect keepsake to enjoy for years to come. *While quantities last. No photo retakes. One photo per family. Children must be accompanied by an adult.
X-ALT-DESC;FMTTYPE=text/html:We&rsquo\;re always on Santa&rsquo\;s nice list&mdash\;that&rsquo\;s why he visits Homemakers first every year! We&rsquo\;re excited to kick off the holiday season in style with Santa and Mrs. Claus! They&rsquo\;ll be making a weekend trip to Des Moines to see all the good boys and girls we know\, so bring your Christmas lists and say &ldquo\;cheese!&rdquo\; You&rsquo\;ll get a free picture with Santa and Mrs. Claus&mdash\;the perfect keepsake to enjoy for years to come. *While quantities last. No photo retakes. One photo per family. Children must be accompanied by an adult.
LOCATION:Homemakers Furniture
UID:e.1185.4917
SEQUENCE:3
DTSTAMP:20260421T035312Z
URL:http://getaquote-mobile.uniquelyurbandale.com/events/details/homemakers-free-pictures-with-santa-4917
END:VEVENT

END:VCALENDAR
