BEGIN:VCALENDAR
VERSION:2.0
PRODID:-//ChamberMaster//Event Calendar 2.0//EN
METHOD:PUBLISH
X-PUBLISHED-TTL:P3D
REFRESH-INTERVAL:P3D
CALSCALE:GREGORIAN
BEGIN:VEVENT
DTSTART:20160603T140000Z
DTEND:20160603T210000Z
X-MICROSOFT-CDO-ALLDAYEVENT:FALSE
SUMMARY:Home School Day: "Farm to Fork"
DESCRIPTION:All of our food comes from somewhere. This event explores how farming has changed over time. Participate in chores\, games\, crafts\, and activities meant to illustrate where our food comes from and how it has gotten to our table over the past 300 years. Visit the 1700 Ioway Farm\, 1850 Pioneer Farm\, 1900 Horse-Powered Farm\, and 1875 Town of Walnut Hill to experience several garden and food themed activities. Homeschool groups and families who pre-register receive discounted admission. Activities run 9:30 - 11:30am and 1:00 - 3:00pm.
X-ALT-DESC;FMTTYPE=text/html:All of our food comes from somewhere. This event explores how farming has changed over time. Participate in chores\, games\, crafts\, and activities meant to illustrate where our food comes from and how it has gotten to our table over the past 300 years. Visit the 1700 Ioway Farm\, 1850 Pioneer Farm\, 1900 Horse-Powered Farm\, and 1875 Town of Walnut Hill to experience several garden and food themed activities. Homeschool groups and families who pre-register receive discounted admission. Activities run 9:30 - 11:30am and 1:00 - 3:00pm.
LOCATION:Living History Farms 11121 Hickman Road Urbandale\, IA 50322
UID:e.1185.4692
SEQUENCE:3
DTSTAMP:20260420T195651Z
URL:http://getaquote-mobile.uniquelyurbandale.com/events/details/home-school-day-farm-to-fork-06-03-2016-4692
END:VEVENT

END:VCALENDAR
