BEGIN:VCALENDAR
VERSION:2.0
PRODID:-//ChamberMaster//Event Calendar 2.0//EN
METHOD:PUBLISH
X-PUBLISHED-TTL:P3D
REFRESH-INTERVAL:P3D
CALSCALE:GREGORIAN
BEGIN:VEVENT
DTSTART:20160902T140000Z
DTEND:20160902T210000Z
X-MICROSOFT-CDO-ALLDAYEVENT:FALSE
SUMMARY:Home School Day: "Fall Preparations"
DESCRIPTION:Each season brings different routines and activities. In the spring\, we plant gardens\, which grow during the summer\, and must be harvested in the fall. Participate in chores\, games\, crafts\, and activities all about preparing for fall and winter. Visit the 1700 Ioway Farm\, 1850 Pioneer Farm\, 1900 Horse-Powered Farm\, and 1875 Town of Walnut Hill to experience several fall themed activities. Homeschool groups and families who pre-register receive discounted admission. Activities run 9:30 - 11:30am and 1:00 - 3:00pm.
X-ALT-DESC;FMTTYPE=text/html:Each season brings different routines and activities. In the spring\, we plant gardens\, which grow during the summer\, and must be harvested in the fall. Participate in chores\, games\, crafts\, and activities all about preparing for fall and winter. Visit the 1700 Ioway Farm\, 1850 Pioneer Farm\, 1900 Horse-Powered Farm\, and 1875 Town of Walnut Hill to experience several fall themed activities. Homeschool groups and families who pre-register receive discounted admission. Activities run 9:30 - 11:30am and 1:00 - 3:00pm.
LOCATION:Living History Farms 11121 Hickman Road Urbandale\, IA 50322
UID:e.1185.4702
SEQUENCE:3
DTSTAMP:20260421T003323Z
URL:http://getaquote-mobile.uniquelyurbandale.com/events/details/home-school-day-fall-preparations-09-02-2016-4702
END:VEVENT

END:VCALENDAR
