BEGIN:VCALENDAR
VERSION:2.0
PRODID:-//ChamberMaster//Event Calendar 2.0//EN
METHOD:PUBLISH
X-PUBLISHED-TTL:P3D
REFRESH-INTERVAL:P3D
CALSCALE:GREGORIAN
BEGIN:VEVENT
DTSTART:20161112T150000Z
DTEND:20161112T200000Z
X-MICROSOFT-CDO-ALLDAYEVENT:FALSE
SUMMARY:Holiday Treasures and Bake Sale
DESCRIPTION:Lioness Club of Urbandale will host a Holiday Treasures and Bake Sale November 12th. Large assortment of donated holiday items\, gifts and miscellaneous. There will be an assortment of baked goods to purchase.
X-ALT-DESC;FMTTYPE=text/html:Lioness Club of Urbandale will host a Holiday Treasures and Bake Sale November 12th. Large assortment of donated holiday items\, gifts and miscellaneous. There will be an assortment of baked goods to purchase.
LOCATION:Ralph Whitten Shelter House (Lions Park) 72nd and Aurora
UID:e.1185.4941
SEQUENCE:3
DTSTAMP:20260421T051804Z
URL:http://getaquote-mobile.uniquelyurbandale.com/events/details/holiday-treasures-and-bake-sale-4941
END:VEVENT

END:VCALENDAR
