BEGIN:VCALENDAR
VERSION:2.0
PRODID:-//ChamberMaster//Event Calendar 2.0//EN
METHOD:PUBLISH
X-PUBLISHED-TTL:P3D
REFRESH-INTERVAL:P3D
CALSCALE:GREGORIAN
BEGIN:VEVENT
DTSTART:20181110T150000Z
DTEND:20181110T200000Z
X-MICROSOFT-CDO-ALLDAYEVENT:FALSE
SUMMARY:Holiday Treasures and Bake Sale
DESCRIPTION:Lioness Club of Urbandale will host a holiday sale with assortment of donated holiday decorations\, ornaments\, gifts and a variety of miscellaneous items. There will also be a variety of baked goods.
X-ALT-DESC;FMTTYPE=text/html:Lioness Club of Urbandale will host a holiday sale with assortment of donated holiday decorations\, ornaments\, gifts and a variety of miscellaneous items. There will also be a variety of baked goods.
LOCATION:Ralph Whitten Shelter House 72nd and Aurora Urbandale\, IA
UID:e.1185.8450
SEQUENCE:3
DTSTAMP:20260422T143015Z
URL:http://getaquote-mobile.uniquelyurbandale.com/events/details/holiday-treasures-and-bake-sale-11-10-2018-8450
END:VEVENT

END:VCALENDAR
