BEGIN:VCALENDAR
VERSION:2.0
PRODID:-//ChamberMaster//Event Calendar 2.0//EN
METHOD:PUBLISH
X-PUBLISHED-TTL:P3D
REFRESH-INTERVAL:P3D
CALSCALE:GREGORIAN
BEGIN:VEVENT
DTSTART:20160917T183000Z
DTEND:20160917T193000Z
X-MICROSOFT-CDO-ALLDAYEVENT:FALSE
SUMMARY:Historic Baseball Game
DESCRIPTION:Watch our home team\, the Walnut Hill Bluestockings\, compete in 1870s-rules baseball games. Cheer the batters or "strikers" as they call their pitch and "Leg it" to first. The team makes sure kids have a chance to bat around at the end of the game! May 28\, June 19\, July 4\, August 6\, and September 17. All games begin at 1:30--except for July 4th (2:30).
X-ALT-DESC;FMTTYPE=text/html:Watch our home team\, the Walnut Hill Bluestockings\, compete in 1870s-rules baseball games. Cheer the batters or &quot\;strikers&quot\; as they call their pitch and &quot\;Leg it&quot\; to first. The team makes sure kids have a chance to bat around at the end of the game! May 28\, June 19\, July 4\, August 6\, and September 17. All games begin at 1:30--except for July 4th (2:30).
LOCATION:Living History Farms 11121 Hickman Road Urbandale\, IA 50322
UID:e.1185.4688
SEQUENCE:3
DTSTAMP:20260421T003412Z
URL:http://getaquote-mobile.uniquelyurbandale.com/events/details/historic-baseball-game-09-17-2016-4688
END:VEVENT

END:VCALENDAR
