BEGIN:VCALENDAR
VERSION:2.0
PRODID:-//ChamberMaster//Event Calendar 2.0//EN
METHOD:PUBLISH
X-PUBLISHED-TTL:P3D
REFRESH-INTERVAL:P3D
CALSCALE:GREGORIAN
BEGIN:VEVENT
DTSTART:20170516T210000Z
DTEND:20170516T230000Z
X-MICROSOFT-CDO-ALLDAYEVENT:FALSE
SUMMARY:Hilton Garden Inn-Urbandale Open House
DESCRIPTION:Join us for a Progressive Open House---\n\nDont's miss this free event showcasing the fresh\, contemporary redesign of Hilton Garden Inn--Urbandale.\n\nEnjoy signature cuisine prepared by Chef Jonathan Bovenmyer as you move from room to room\, culminating in a dessert bar with complimentary beer and wine in our top-floor suite.\n\nEach attendee will be entered to win one of our featured prizes including two free room nights and gift cards courtesy of Orchestrate Hospitality (Centro\, Django\, Malo\, South Union Bread Cafe\, Zombie Burger and Gateway Market).\n\nWe look forward to seeing you there!\n\nHilton Garden Inn\n\nTuesday May 16th 4:00 - 6:00 p.m.\n\nRSVP by May 12th to Rose Mary 515-252-2361 rschira@ohospitality.com or Miki 515-252-2391 mweber@ohospitality.com
X-ALT-DESC;FMTTYPE=text/html:Join us for a Progressive Open House---<br />\nDont&#39\;s miss this free event showcasing the fresh\, contemporary redesign of Hilton Garden Inn--Urbandale.<br />\nEnjoy signature cuisine prepared by Chef Jonathan Bovenmyer as you move from room to room\, culminating in a dessert bar with complimentary beer and wine in our top-floor suite.<br />\nEach attendee will be entered to win one of our featured prizes including two free room nights and gift cards courtesy of Orchestrate Hospitality (Centro\, Django\, Malo\, South Union Bread Cafe\, Zombie Burger and Gateway Market).<br />\nWe look forward to seeing you there!<br />\nHilton Garden Inn<br />\nTuesday May 16th 4:00 - 6:00 p.m.<br />\nRSVP by May 12th to Rose Mary 515-252-2361 <a href="mailto:rschira@ohospitality.com">rschira@ohospitality.com</a> or Miki 515-252-2391 <a href="mailto:mweber@ohospitality.com">mweber@ohospitality.com</a>
LOCATION:Hilton Garden Inn--Des Moines Urbandale 8600 Northpark Drive Johnston\, Iowa 50131
UID:e.1185.5195
SEQUENCE:3
DTSTAMP:20260421T120510Z
URL:http://getaquote-mobile.uniquelyurbandale.com/events/details/hilton-garden-inn-urbandale-open-house-5195
END:VEVENT

END:VCALENDAR
