BEGIN:VCALENDAR
VERSION:2.0
PRODID:-//ChamberMaster//Event Calendar 2.0//EN
METHOD:PUBLISH
X-PUBLISHED-TTL:P3D
REFRESH-INTERVAL:P3D
CALSCALE:GREGORIAN
BEGIN:VEVENT
DTSTART:20151112T220000Z
DTEND:20151113T000000Z
X-MICROSOFT-CDO-ALLDAYEVENT:FALSE
SUMMARY:High 5\, Presented by Midland Credit Union
DESCRIPTION:Join us for Cowboys\, Coffee and "C"araoke!\n\n\n\nYou won't want to miss this after hours with a twist.  Our host\, Friedrichs Coffee\, is brewing up a fantastic event.  Some highlights: Rockbottom Brewery will be handing out stout coffee and Friedrichs Coffee and appetizers will be available as well!  All attendees will receive one pound  of free coffee\, roasted right in front of you!  The prize giveaway is a Rockbottom Growler and winner will be the "C"araoke Cowboy of the night!!  Just us for a great night of fun and networking. \n\n\n\nNetworking and registration will take place from 4:00 until 4:30 pm.  At 4:30 pm\, attendees will draw for which cluster of five people that will take turn answering specific questions.  Round One and Round Two\, each person will be asked to answer a specific question and Round three is our Challenge question.  The team who solves the challenge first wins a prize!  \n\nAfter the question rounds\, sponsors will speak and then from 5-6 pm is open networking.\n\n\n\nThis strategic after hours event will help you get to know other attendees in a fun atmosphere!\n\n\n\nHost/Sponsor: Friedrichs Coffee--Please note the address! (2781 NW 99th St.\, Urbandale)\n\nTime: 4:00 pm - 6:00 pm\n\nCost:  Included in your membership\, but RSVPs are requested to accommodate for food and beverages
X-ALT-DESC;FMTTYPE=text/html:<p>Join us for Cowboys\, Coffee and &quot\;C&quot\;araoke!<br />\n<br />\nYou won&#39\;t want to miss this after hours with a twist. &nbsp\;Our host\, Friedrichs Coffee\, is brewing up a fantastic event. &nbsp\;Some highlights: Rockbottom Brewery will be handing out stout coffee and&nbsp\;Friedrichs<span style="line-height: 18.9091px\;">&nbsp\;</span><span style="line-height: 18.9091px\;">Coffee</span><span style="line-height: 18.9091px\;">&nbsp\;and appetizers will be available</span><span style="line-height: 1.6\;">&nbsp\;as well! &nbsp\;All attendees will receive one pound &nbsp\;of free coffee\, roasted right in front of you! &nbsp\;The prize giveaway is a </span>Rockbottom<span style="line-height: 1.6\;"> Growler and winner will be the &quot\;C&quot\;</span>araoke<span style="line-height: 1.6\;"> Cowboy of the night!! &nbsp\;</span><span style="line-height: 18.9091px\;">Just us for a great night of fun and networking.&nbsp\;</span><br />\n<br />\nNetworking and registration will take place from 4:00 until 4:30 pm. &nbsp\;At 4:30 pm\, attendees will draw for which cluster of five people that will take turn answering specific questions. &nbsp\;Round One and Round Two\, each person will be asked to answer a specific question and Round three is our&nbsp\;Challenge question. &nbsp\;The team who solves the challenge first wins a prize! &nbsp\;<br />\nAfter the question rounds\, sponsors will speak and then from 5-6 pm is open networking.<br />\n<br />\nThis strategic after hours event will help you get to know other attendees in a fun atmosphere!<br />\n<br />\nHost/Sponsor: Friedrichs Coffee--Please note the address!&nbsp\;(2781 NW 99th St.\, Urbandale)</p>\n\n<p>Time: 4:00 pm - 6:00 pm<br />\nCost:&nbsp\; Included in your membership\, but RSVPs are requested to accommodate for food and beverages</p>\n
LOCATION:Friedrichs Coffee (2781 NW 99th St.\, Urbandale)
UID:e.1185.4114
SEQUENCE:3
DTSTAMP:20260420T101009Z
URL:http://getaquote-mobile.uniquelyurbandale.com/events/details/high-5-presented-by-midland-credit-union-11-12-2015-4114
END:VEVENT

END:VCALENDAR
