BEGIN:VCALENDAR
VERSION:2.0
PRODID:-//ChamberMaster//Event Calendar 2.0//EN
METHOD:PUBLISH
X-PUBLISHED-TTL:P3D
REFRESH-INTERVAL:P3D
CALSCALE:GREGORIAN
BEGIN:VEVENT
DTSTART:20141009T210000Z
DTEND:20141009T230000Z
X-MICROSOFT-CDO-ALLDAYEVENT:FALSE
SUMMARY:High 5\, Presented by Midland Credit Union
DESCRIPTION:New for 2014!  It's the Urbandale Chamber's Business After Hours with a twist!\n\n\n\nNetworking and registration will take place from 4:00 until 4:30 pm.  At 4:30 pm\, attendees will draw for which cluster of five people that will take turn answering specific questions.  We will have three rounds and Round three will be a challenge question!  The team who solves the challenge first wins a prize!\n\n\n\nAfter the question rounds\, sponsors will speak and then from 5-6 pm is open networking.\n\n\n\nThis strategic after hours event will help you get to know other attendees in a fun atmosphere!\n\n\n\nHost/Sponsor: Preowned Solutions (11010 Douglas Ave.\, Urbandale)\n\nPreowned Solutions is partnering with the Urbandale Food Pantry on this event.  If you are interested in donating to the Food Pantry\, Here are a few ways to help: Donate a turkey or ham to the Urbandale Food Pantry in November and/or December\, Provide holiday food items for the Urbandale Food Pantry (Potatoes/instant potatoes\, sweet potatoes\, marshmallows\, canned fruit\, canned green beans\, cream of mushroom soup\, French fried onions\, stuffing\, gravy\, dinner rolls\, butter\, frozen pies\, foil roasting pans) or Make a monetary donation to the Urbandale Food Pantry \n\nTime: 4:00 pm - 6:00 pm\n\nCost:  Included in your membership\, but RSVP?s are requested to accommodate for food and beverages
X-ALT-DESC;FMTTYPE=text/html:<p>New for 2014! &nbsp\;It&#39\;s the Urbandale Chamber&#39\;s Business After Hours with a twist!<br />\n<br />\nNetworking and registration will take place from 4:00 until 4:30 pm. &nbsp\;At 4:30 pm\, attendees will draw for which cluster of five people that will take turn answering specific questions. &nbsp\;We will have three rounds and Round three will be a challenge question! &nbsp\;The team who solves the challenge first wins a prize!<br />\n<br />\nAfter the question rounds\, sponsors will speak and then from 5-6 pm is open networking.<br />\n<br />\nThis strategic after hours event will help you get to know other attendees in a fun atmosphere!<br />\n<br />\nHost/Sponsor: Preowned Solutions (11010 Douglas Ave.\, Urbandale)<br />\nPreowned Solutions is partnering with the Urbandale Food Pantry on this event. &nbsp\;If you are interested in donating to the Food Pantry\,&nbsp\;<span style="color:black\;">Here are a few ways to help:&nbsp\;</span><span style="color: black\; line-height: 1.6\;">Donate a turkey or ham to the </span>Urbandale<span style="color: black\; line-height: 1.6\;"> Food Pantry in November and/or December\,&nbsp\;</span><span style="color: black\; line-height: 1.6\;">Provide holiday food items for the </span>Urbandale<span style="color: black\; line-height: 1.6\;"> Food Pantry (Potatoes/instant potatoes\, sweet potatoes\, marshmallows\, canned fruit\, canned green beans\, cream of mushroom soup\, French fried onions\, stuffing\, gravy\, dinner rolls\, butter\, frozen pies\, foil roasting pans) or&nbsp\;</span><span style="color: black\; line-height: 1.6\;">Make a monetary donation to the </span>Urbandale<span style="color: black\; line-height: 1.6\;"> Food Pantry&nbsp\;</span></p>\n\n<p>Time: 4:00 pm - 6:00 pm<br />\nCost:&nbsp\; Included in your membership\, but RSVP?s are requested to accommodate for food and beverages</p>\n
LOCATION:Preowned Solutions (11010 Douglas Ave.\, Urbandale)
UID:e.1185.3851
SEQUENCE:3
DTSTAMP:20260419T152722Z
URL:http://getaquote-mobile.uniquelyurbandale.com/events/details/high-5-presented-by-midland-credit-union-10-09-2014-3851
END:VEVENT

END:VCALENDAR
