BEGIN:VCALENDAR
VERSION:2.0
PRODID:-//ChamberMaster//Event Calendar 2.0//EN
METHOD:PUBLISH
X-PUBLISHED-TTL:P3D
REFRESH-INTERVAL:P3D
CALSCALE:GREGORIAN
BEGIN:VEVENT
DTSTART:20150813T210000Z
DTEND:20150813T230000Z
X-MICROSOFT-CDO-ALLDAYEVENT:FALSE
SUMMARY:High 5\, Presented by Midland Credit Union
DESCRIPTION:Grab a lemon\, grab a lime   it's Fiesta Time!  \n\nGolden Opening's will offer you the sights\, sounds and tastes of Mexico at this month's High Five (HOLA CINCO!). \n\nPlan on lots of muy caliente (hot) food along with frio (cold) Cerveza (beer) and Margaritas.\n\nPlease RSVP so we can accommodate everyone.\n\n\n\nNetworking and registration will take place from 4:00 until 4:30 pm.  At 4:30 pm\, attendees will draw for which cluster of five people that will take turn answering specific questions.  Round One and Round Two\, each person will be asked to answer a specific question and Round three is our Challenge question.  The team who solves the challenge first wins a prize!\n\n\n\nAfter the question rounds\, sponsors will speak and then from 5-6 pm is open networking.\n\n\n\nThis strategic after hours event will help you get to know other attendees in a fun atmosphere!\n\n\n\nHost/Sponsor: Golden Openings (2743 - 99th Street\, Urbandale)\n\nTime: 4:00 pm - 6:00 pm\n\nCost:  Included in your membership\, but RSVPs are requested to accommodate for food and beverages
X-ALT-DESC;FMTTYPE=text/html:<p class="MsoNormal"><strong><span style="font-size:14px\;"><span style="font-family:arial\;">Grab a lemon\, grab a lime &ndash\; it&rsquo\;s Fiesta Time! &nbsp\;</span></span></strong><span style="font-size: 14pt\; font-family: Arial\, sans-serif\;"><o:p></o:p></span></p>\n\n<p class="MsoNormal"><span style="font-size:14px\;"><span style="font-family:arial\;">Golden Opening&rsquo\;s will offer you the sights\, sounds and tastes of Mexico at this month&rsquo\;s High Five (HOLA CINCO!). </span></span><span style="font-size: 14pt\; font-family: Arial\, sans-serif\;"><o:p></o:p></span></p>\n\n<p class="MsoNormal"><span style="font-size:14px\;"><span style="font-family:arial\;">Plan on lots of muy caliente (hot) food along with frio (cold) <em><span lang="EN" style="color: rgb(84\, 84\, 84)\;">Cerveza</span></em><span lang="EN"> </span>(beer) and Margaritas.</span></span><span style="font-size: 14pt\; font-family: Arial\, sans-serif\;"><o:p></o:p></span></p>\n\n<p class="MsoNormal"><span style="font-size:14px\;"><span style="font-family:arial\;">Please RSVP so we can accommodate everyone.</span></span><span style="font-size: 14pt\; font-family: Arial\, sans-serif\;"><o:p></o:p></span></p>\n\n<p><br />\n<span style="font-size:14px\;"><span style="font-family:arial\;">Networking and registration will take place from 4:00 until 4:30 pm. &nbsp\;At 4:30 pm\, attendees will draw for which cluster of five people that will take turn answering specific questions. &nbsp\;Round One and Round Two\, each person will be asked to answer a specific question and Round three is our&nbsp\;Challenge question. &nbsp\;The team who solves the challenge first wins a prize!<br />\n<br />\nAfter the question rounds\, sponsors will speak and then from 5-6 pm is open networking.<br />\n<br />\nThis strategic after hours event will help you get to know other attendees in a fun atmosphere!<br />\n<br />\nHost/Sponsor: Golden Openings (2743 - 99th Street\, Urbandale)</span></span></p>\n\n<p><span style="font-size:14px\;"><span style="font-family:arial\;">Time: 4:00 pm - 6:00 pm<br />\nCost:&nbsp\; Included in your membership\, but RSVPs are requested to accommodate for food and beverages</span></span></p>\n
LOCATION:Golden Openings (2743 - 99th Street\, Urbandale)
UID:e.1185.4111
SEQUENCE:3
DTSTAMP:20260420T054009Z
URL:http://getaquote-mobile.uniquelyurbandale.com/events/details/high-5-presented-by-midland-credit-union-08-13-2015-4111
END:VEVENT

END:VCALENDAR
