BEGIN:VCALENDAR
VERSION:2.0
PRODID:-//ChamberMaster//Event Calendar 2.0//EN
METHOD:PUBLISH
X-PUBLISHED-TTL:P3D
REFRESH-INTERVAL:P3D
CALSCALE:GREGORIAN
BEGIN:VEVENT
DTSTART:20140619T210000Z
DTEND:20140619T230000Z
X-MICROSOFT-CDO-ALLDAYEVENT:FALSE
SUMMARY:High 5\, Presented by Midland Credit Union
DESCRIPTION:New for 2014!  It's the Urbandale Chamber's Business After Hours with a twist!\n\n\n\nJoin us for our first High 5 event startin with networking and registration from 4:00 until 4:30 pm.  At 4:30 pm\, attendees will draw for which cluster of five people that will take turn answering specific questions.  Round one: Name and Business. Round two: Good referral and why. Round three: Challenge question.  The team who solves the challenge first wins a prize!\n\n\n\nAfter the question rounds\, sponsors will speak and then from 5-6 pm is open networking.\n\n\n\nThis strategic after hours event will help you get to know other attendees in a fun atmosphere!\n\n\n\nPlease note: you are welcome to come and go as your schedule allows.  We will have strategic networking from 4-5 pm and then social hour from 5-6 pm.\n\n\n\nHost/Sponsor: Accelerated Rehabilitation Center (8000 Douglas Ave.\, Urbandale)\n\nTime: 4:00 pm - 6:00 pm\n\nCost:  Included in your membership\, but RSVP's are requested to accommodate for food and beverages
X-ALT-DESC;FMTTYPE=text/html:<p><span style="font-size:12px\;"><span style="font-family:arial\;">New for 2014! &nbsp\;It&#39\;s the Urbandale Chamber&#39\;s Business After Hours with a twist!<br />\n<br />\nJoin us for our first High 5 event startin with networking and registration from 4:00 until 4:30 pm. &nbsp\;At 4:30 pm\, attendees will draw for which cluster of five people that will take turn answering specific questions. &nbsp\;Round one: Name and Business. Round two: Good referral and why. Round three: Challenge question. &nbsp\;The team who solves the challenge first wins a prize!<br />\n<br />\nAfter the question rounds\, sponsors will speak and then from 5-6 pm is open networking.<br />\n<br />\nThis strategic after hours event will help you get to know other attendees in a fun atmosphere!<br />\n<br />\n<strong><em>Please note: you are welcome to come and go as your schedule allows. &nbsp\;We will have strategic networking from 4-5 pm and then social hour from 5-6 pm</em></strong>.<br />\n<br />\nHost/Sponsor:&nbsp\;Accelerated Rehabilitation Center (8000 Douglas Ave.\, Urbandale)</span></span></p>\n\n<p><span style="font-size:12px\;"><span style="font-family:arial\;">Time: 4:00 pm - 6:00 pm<br />\nCost:&nbsp\; Included in your membership\, but RSVP&rsquo\;s are requested to accommodate for food and beverages</span></span></p>\n
LOCATION:Accelerated Rehabilitation Center (8000 Douglas Ave.\, Urbandale)
UID:e.1185.3781
SEQUENCE:3
DTSTAMP:20260419T152636Z
URL:http://getaquote-mobile.uniquelyurbandale.com/events/details/high-5-presented-by-midland-credit-union-06-19-2014-3781
END:VEVENT

END:VCALENDAR
