BEGIN:VCALENDAR
VERSION:2.0
PRODID:-//ChamberMaster//Event Calendar 2.0//EN
METHOD:PUBLISH
X-PUBLISHED-TTL:P3D
REFRESH-INTERVAL:P3D
CALSCALE:GREGORIAN
BEGIN:VEVENT
DTSTART:20150611T210000Z
DTEND:20150611T230000Z
X-MICROSOFT-CDO-ALLDAYEVENT:FALSE
SUMMARY:High 5\, Presented by Midland Credit Union
DESCRIPTION:Join us for this After Hours with a Twist!\n\n\n\nNetworking and registration will take place from 4:00 until 4:30 pm.  At 4:30 pm\, attendees will draw for which cluster of five people that will take turn answering specific questions.  Round One and Round Two\, each person will be asked to answer a specific question and Round three is our Challenge question.  The team who solves the challenge first wins a prize!\n\n\n\nAfter the question rounds\, sponsors will speak and then from 5-6 pm is open networking.\n\n\n\nThis strategic after hours event will help you get to know other attendees in a fun atmosphere!\n\n\n\nHost/Sponsor: Accelerated Rehabilitation Center (8000 Douglas Ave.\, Urbandale)\n\nTime: 4:00 pm - 6:00 pm\n\nCost:  Included in your membership\, but RSVPs are requested to accommodate for food and beverages
X-ALT-DESC;FMTTYPE=text/html:<p>Join us for this After Hours with a Twist!<br />\n<br />\nNetworking and registration will take place from 4:00 until 4:30 pm. &nbsp\;At 4:30 pm\, attendees will draw for which cluster of five people that will take turn answering specific questions. &nbsp\;Round One and Round Two\, each person will be asked to answer a specific question and Round three is our&nbsp\;Challenge question. &nbsp\;The team who solves the challenge first wins a prize!<br />\n<br />\nAfter the question rounds\, sponsors will speak and then from 5-6 pm is open networking.<br />\n<br />\nThis strategic after hours event will help you get to know other attendees in a fun atmosphere!<br />\n<br />\nHost/Sponsor:&nbsp\;Accelerated Rehabilitation Center (8000 Douglas Ave.\, Urbandale)</p>\n\n<p>Time: 4:00 pm - 6:00 pm<br />\nCost:&nbsp\; Included in your membership\, but RSVPs are requested to accommodate for food and beverages</p>\n
LOCATION:Accelerated Rehabilitation Center (8000 Douglas Ave.\, Urbandale)
UID:e.1185.4109
SEQUENCE:3
DTSTAMP:20260420T024459Z
URL:http://getaquote-mobile.uniquelyurbandale.com/events/details/high-5-presented-by-midland-credit-union-06-11-2015-4109
END:VEVENT

END:VCALENDAR
