BEGIN:VCALENDAR
VERSION:2.0
PRODID:-//ChamberMaster//Event Calendar 2.0//EN
METHOD:PUBLISH
X-PUBLISHED-TTL:P3D
REFRESH-INTERVAL:P3D
CALSCALE:GREGORIAN
BEGIN:VEVENT
DTSTART:20160127T190000Z
DTEND:20160127T200000Z
X-MICROSOFT-CDO-ALLDAYEVENT:FALSE
SUMMARY:Help Your employees recognize Tax ID Theft
DESCRIPTION:Dear Urbandale Chamber Member: \n\nDid you know the Internal Revenue Service has paid out $5.8 billion in fraudulently filed income tax returns?* January 25-29 is Tax Identity Theft Awareness Week. As leaders in the legal and identity theft services industry\, we are offering complimentary educational resources for you and your employees.   \n\nThe first resource is information to help your employees recognize Tax ID Theft.\n\nLearn about Tax Identity Theft:  http://connect.legalshield.com/tax-id-theft\n\nThe second resource is a webinar about tax identity theft especially for managers who want to learn more about how they can help their employees protect themselves against tax fraud.  This webinar will be presented by Effrin Reeder\, Senior Manager at Kroll Inc.\, a global security firm\, and will be held Wednesday\, January 27\, 2016 at 1 p.m. CST.  Click the link below to find out more about the webinar and to register. \n\nRegister for Tax ID Theft Webinar:  http://event.on24.com/wcc/r/1115304/5BFB58C061A06697AC360A72A9CBCB47\n\nLegalShield\, along with our partner Kroll\, offer the IDShield guarantee. Every day. Every Hour. Every Second. We do whatever it takes for as long as it takes to restore your identity to its pre-theft status. You have our $5 million service guarantee.\n\nWe value you as a co-member\, and think you will find these tax identity theft resources useful. We also look forward to seeing you at the webinar!\n\nSincerely\,\n\nTerry & Ruth Ebke\n\n515-371-8606 or 515-371-8646
X-ALT-DESC;FMTTYPE=text/html:<span style="color:#1F497D">Dear Urbandale Chamber Member: </span><br />\n<span style="color:#1F497D">Did you know the Internal Revenue Service has paid out $5.8 billion in fraudulently filed income tax returns?* January 25-29 is Tax Identity Theft Awareness Week. As leaders in the legal and identity theft services industry\, we are offering complimentary educational resources for you and your employees.&nbsp\;&nbsp\; </span><br />\n<span style="color:#1F497D">The first resource is information to help your employees recognize Tax ID Theft.</span><br />\n<a href="../../../../heilmetm/Documents/Grow%20Groups/Learn%20about%20Tax%20Identity%20Theft:%20http:/connect.legalshield.com/holiday-id-theft"><span style="color:blue">Learn about Tax Identity Theft: </span></a>&nbsp\;<a href="http://connect.legalshield.com/tax-id-theft" target="_blank"><span style="color:#3288E6"><span style="font-family:helvetica\,sans-serif"><span style="font-size:9.5pt">http://connect.legalshield.com/tax-id-theft</span></span></span></a><br />\n<span style="color:#1F497D">The second resource is a webinar about tax identity theft especially for managers who want to learn more about how they can help their employees protect themselves against tax fraud.&nbsp\; This webinar will be presented by Effrin Reeder\, Senior Manager at Kroll Inc.\, a global security firm\, and will be held Wednesday\, January 27\, 2016 at 1 p.m. CST. &nbsp\;Click the link below to find out more about the webinar and to register.&nbsp\;</span><br />\n<a href="https://event.on24.com/eventRegistration/EventLobbyServlet?target=reg20.jsp&amp\;hsCtaTracking=52284a1c-f8ae-47c2-8e90-1edb2d9cf894%7C9e83f683-824a-4204-9463-03a4871df89e&amp\;eventid=1115304&amp\;sessionid=1&amp\;key=5BFB58C061A06697AC360A72A9CBCB47&amp\;regTag=&amp\;sourcepage=register"><span style="color:blue">Register for Tax ID Theft Webinar</span></a><span style="color:blue">:&nbsp\; http://event.on24.com/wcc/r/1115304/5BFB58C061A06697AC360A72A9CBCB47</span><br />\n<span style="color:#1F497D">LegalShield\, along with our partner Kroll\, offer the IDShield guarantee. Every day. Every Hour. Every Second. We do whatever it takes for as long as it takes to restore your identity to its pre-theft status. You have our $5 million service guarantee.</span><br />\n<span style="color:#1F497D">We value you as a co-member\, and think you will find these tax identity theft resources useful. We also look forward to seeing you at the webinar!</span><br />\n<span style="color:#1F497D">Sincerely\,</span><br />\n<span style="color:#1F497D">Terry &amp\; Ruth Ebke</span><br />\n<span style="color:#1F497D">515-371-8606 or 515-371-8646</span><br />\n&nbsp\;
LOCATION:Webinar
UID:e.1185.4677
SEQUENCE:3
DTSTAMP:20260420T124702Z
URL:http://getaquote-mobile.uniquelyurbandale.com/events/details/help-your-employees-recognize-tax-id-theft-01-27-2016-4677
END:VEVENT

END:VCALENDAR
