BEGIN:VCALENDAR
VERSION:2.0
PRODID:-//ChamberMaster//Event Calendar 2.0//EN
METHOD:PUBLISH
X-PUBLISHED-TTL:P3D
REFRESH-INTERVAL:P3D
CALSCALE:GREGORIAN
BEGIN:VEVENT
DTSTART:20160712T150000Z
DTEND:20160712T163000Z
X-MICROSOFT-CDO-ALLDAYEVENT:FALSE
SUMMARY:Healthy Inside & Out
DESCRIPTION:Jump-start your body for a more active\, healthy lifestyle!
X-ALT-DESC;FMTTYPE=text/html:<span style="background-color:rgb(255\, 255\, 255)\; color:rgb(78\, 86\, 101)\; font-family:helvetica\,arial\,sans-serif\; font-size:14px">Jump-start your body for a more active\, healthy lifestyle!</span>
LOCATION:Urbandale Senior Citizens Center-7305 Aurora Ave\, Urbandale\, IA
UID:e.1185.4766
SEQUENCE:3
DTSTAMP:20260420T212259Z
URL:http://getaquote-mobile.uniquelyurbandale.com/events/details/healthy-inside-out-07-12-2016-4766
END:VEVENT

END:VCALENDAR
