BEGIN:VCALENDAR
VERSION:2.0
PRODID:-//ChamberMaster//Event Calendar 2.0//EN
METHOD:PUBLISH
X-PUBLISHED-TTL:P3D
REFRESH-INTERVAL:P3D
CALSCALE:GREGORIAN
BEGIN:VEVENT
DTSTART:20160127T010000Z
DTEND:20160127T030000Z
X-MICROSOFT-CDO-ALLDAYEVENT:FALSE
SUMMARY:Healthy Aging and Brain Wellness
DESCRIPTION:As part of the Embrace Aging series\, geriatric/dementia specialist\, Dr. Robert Bender\, and moderator Dr. Mary Mincer Hansen will discuss healthy aging and brain wellness in this free event that is open to the public.
X-ALT-DESC;FMTTYPE=text/html:As part of the Embrace Aging series\, geriatric/dementia specialist\, Dr. Robert Bender\, and moderator Dr. Mary Mincer Hansen will discuss healthy aging and brain wellness in this free event that is open to the public.
LOCATION:Drake University?s Olmsted Center\, Sussman Theater\, 2875 University Avenue\, Des Moines IA 50311.
UID:e.1185.4672
SEQUENCE:3
DTSTAMP:20260420T124727Z
URL:http://getaquote-mobile.uniquelyurbandale.com/events/details/healthy-aging-and-brain-wellness-01-26-2016-4672
END:VEVENT

END:VCALENDAR
