BEGIN:VCALENDAR
VERSION:2.0
PRODID:-//ChamberMaster//Event Calendar 2.0//EN
METHOD:PUBLISH
X-PUBLISHED-TTL:P3D
REFRESH-INTERVAL:P3D
CALSCALE:GREGORIAN
BEGIN:VEVENT
DTSTART:20161020T180000Z
DTEND:20161020T200000Z
X-MICROSOFT-CDO-ALLDAYEVENT:FALSE
SUMMARY:Healthcare Career Fair
DESCRIPTION:Central Iowa Partners in Healthcare and Kaplan University present the 2016 Healthcare Career Fair on Thursday\, October 20th from 1:00 PM to 3:00 PM. FREE AND OPEN TO THE PUBLIC! Please join us for a Career Fair specifically for job opportunities in the healthcare field. Employers are recruiting for the following positions:   RNs\, LPNs and CNAs and Med Aides   Direct Care Professionals   Medical Assistants   Billing and Office Assistants   Health Care Administration   and more!
X-ALT-DESC;FMTTYPE=text/html:Central Iowa Partners in Healthcare and Kaplan University present the 2016 Healthcare Career Fair on Thursday\, October 20th from 1:00 PM to 3:00 PM. FREE AND OPEN TO THE PUBLIC! Please join us for a Career Fair specifically for job opportunities in the healthcare field. Employers are recruiting for the following positions: &bull\; RNs\, LPNs and CNAs and Med Aides &bull\; Direct Care Professionals &bull\; Medical Assistants &bull\; Billing and Office Assistants &bull\; Health Care Administration &bull\; and more!
LOCATION:Kaplan University 4655 121st St. Urbandale\, Iowa 50323
UID:e.1185.4931
SEQUENCE:3
DTSTAMP:20260421T022341Z
URL:http://getaquote-mobile.uniquelyurbandale.com/events/details/healthcare-career-fair-4931
END:VEVENT

END:VCALENDAR
