BEGIN:VCALENDAR
VERSION:2.0
PRODID:-//ChamberMaster//Event Calendar 2.0//EN
METHOD:PUBLISH
X-PUBLISHED-TTL:P3D
REFRESH-INTERVAL:P3D
CALSCALE:GREGORIAN
BEGIN:VEVENT
DTSTART:20150909T210000Z
DTEND:20150909T220000Z
X-MICROSOFT-CDO-ALLDAYEVENT:FALSE
SUMMARY:Health Care Industry Round Table/Forum\, Presented by Balance First Chiropractic Partners\, PLC
DESCRIPTION:In order to benefit the health of the Urbandale community as well as the greater Des Moines area\, a forum of health professionals representing multiple disciplines come together once a quarter to update the members regarding their profession\, research\, and training as well as network with each other so as to benefit patients from multidisciplinary care. It is a simple forum in which health professionals can share the opportunity to learn from each other (formally and informally) in a respectful environment\, communicate regarding how they can complement the care that others provide\, and benefit from an established network of resources in which they can refer and recruit patients who may benefit from multi-disciplined care.\n\n\n\nThis program will feature a speaker every quarter.This quarter features Cassandra Halls with ATW Training to discuss a new program for companies in the Health Care Industry.  The program helps train foster kids for entry-level positions in Health Care.  These foster kids are about to age out of the system and receive support/training through this program.  \n\n\n\nA special thank you to Balance First Chiropractic Partners\, PLC for sponsoring these forums for 2015!
X-ALT-DESC;FMTTYPE=text/html:<span style="line-height: 20.7999992370605px\;">In order to benefit the health of the&nbsp\;</span>Urbandale<span style="line-height: 20.7999992370605px\;">&nbsp\;community as well as the greater Des Moines area\, a forum o</span><span style="line-height: 20.7999992370605px\;">f health professionals representing multiple disciplines come together once a quarter to update the members regarding their profession\, research\, and training as well as network with each other so as to benefit patients from multidisciplinary care. It is a simple forum in which health professionals can share the opportunity to learn from each other (formally and informally) in a respectful environment\, communicate regarding how they can complement the care that others provide\, and benefit from an established network of resources in which they can refer and recruit patients who may benefit from multi-disciplined care.</span><br style="line-height: 20.7999992370605px\;" />\n<br style="line-height: 20.7999992370605px\;" />\n<span style="line-height: 20.7999992370605px\;">This program will feature a speaker every quarter.This quarter features Cassandra Halls with ATW Training to discuss a new program for companies in the Health Care Industry. &nbsp\;The program helps train foster kids for entry-level positions in Health Care. &nbsp\;These foster kids are&nbsp\;about to age out of the system and receive support/training through this program. &nbsp\;<br />\n<br />\nA special thank you to <a href="http://www.chiropracticdsm.com/">Balance First Chiropractic Partners\, PLC</a> for sponsoring these forums for 2015!</span>
LOCATION:RODAN Board Room Urbandale Chamber office 2830 100th St.\, Ste. 110 Urbandale\, IA 50322
UID:e.1185.4164
SEQUENCE:3
DTSTAMP:20260420T070420Z
URL:http://getaquote-mobile.uniquelyurbandale.com/events/details/health-care-industry-round-table-forum-presented-by-balance-first-chiropractic-partners-plc-09-09-2015-4164
END:VEVENT

END:VCALENDAR
