BEGIN:VCALENDAR
VERSION:2.0
PRODID:-//ChamberMaster//Event Calendar 2.0//EN
METHOD:PUBLISH
X-PUBLISHED-TTL:P3D
REFRESH-INTERVAL:P3D
CALSCALE:GREGORIAN
BEGIN:VEVENT
DTSTART:20150610T210000Z
DTEND:20150610T220000Z
X-MICROSOFT-CDO-ALLDAYEVENT:FALSE
SUMMARY:Health Care Industry Round Table/Forum\, Presented by Balance First Chiropractic Partners\, PLC
DESCRIPTION:The purpose of this group is to improve wellness through education\, integration and referrals.\n\n\n\nIn order to benefit the health of the Urbandale community as well as the greater Des Moines area\, a forum of health professionals representing multiple disciplines come together once a quarter to update the members regarding their profession\, research\, and training as well as network with each other so as to benefit patients from multidisciplinary care. It is a simple forum in which health professionals can share the opportunity to learn from each other (formally and informally) in a respectful environment\, communicate regarding how they can complement the care that others provide\, and benefit from an established network of resources in which they can refer and recruit patients who may benefit from multi-disciplined care.\n\n\n\nThis program will feature a speaker every quarter.  This month\, however\, the group will connect with each other to learn about each other's company focus and unique qualities.  This is an opportunity for "power-education" where the group will learn about each other.  \n\n\n\nA special Thank You to Balance First Chiropractic Partners\, PLC for sponsoring this series in 2015!
X-ALT-DESC;FMTTYPE=text/html:<span style="line-height: 20.7999992370605px\;">The purpose of this group is to improve wellness through education\, integration and referrals.<br />\n<br />\nIn order to benefit the health of the&nbsp\;</span>Urbandale<span style="line-height: 20.7999992370605px\;">&nbsp\;community as well as the greater Des Moines area\, a forum o</span><span style="line-height: 20.7999992370605px\;">f health professionals representing multiple disciplines come together once a quarter to update the members regarding their profession\, research\, and training as well as network with each other so as to benefit patients from multidisciplinary care. It is a simple forum in which health professionals can share the opportunity to learn from each other (formally and informally) in a respectful environment\, communicate regarding how they can complement the care that others provide\, and benefit from an established network of resources in which they can refer and recruit patients who may benefit from multi-disciplined care.</span><br style="line-height: 20.7999992370605px\;" />\n<br style="line-height: 20.7999992370605px\;" />\n<span style="line-height: 20.7999992370605px\;">This program will feature a speaker every quarter. &nbsp\;This month\, however\, the group will connect with each other to learn about each other&#39\;s company focus and unique qualities. &nbsp\;This is an opportunity for &quot\;power-education&quot\; where the group will learn about each other. &nbsp\;<br />\n<br />\nA special Thank You to <a href="http://www.chiropracticdsm.com/">Balance First Chiropractic Partners\, PLC</a> for sponsoring this series in 2015!</span>
LOCATION:RODAN Board Room Urbandale Chamber office 2830 100th St.\, Ste. 110 Urbandale\, IA 50322
UID:e.1185.4163
SEQUENCE:3
DTSTAMP:20260420T024610Z
URL:http://getaquote-mobile.uniquelyurbandale.com/events/details/health-care-industry-round-table-forum-presented-by-balance-first-chiropractic-partners-plc-06-10-2015-4163
END:VEVENT

END:VCALENDAR
