BEGIN:VCALENDAR
VERSION:2.0
PRODID:-//ChamberMaster//Event Calendar 2.0//EN
METHOD:PUBLISH
X-PUBLISHED-TTL:P3D
REFRESH-INTERVAL:P3D
CALSCALE:GREGORIAN
BEGIN:VEVENT
DTSTART:20160315T170000Z
DTEND:20160315T180000Z
X-MICROSOFT-CDO-ALLDAYEVENT:FALSE
SUMMARY:Hawkeye Lunch & Learn - Lecture Series
DESCRIPTION:Free and open to the public with guest speaker Sarah Fisher Gardial\, Dean and Professor of Marketing at Tippie College of Business. Held at the Pappajohn Education Center in Room 201. Please RSVP at outreach.uiowa.edu/hawkeyell.
X-ALT-DESC;FMTTYPE=text/html:Free and open to the public with guest speaker Sarah Fisher Gardial\, Dean and Professor of Marketing at Tippie College of Business. Held at the Pappajohn Education Center in Room 201. Please RSVP at outreach.uiowa.edu/hawkeyell.&nbsp\;
LOCATION:John & Mary PappaJohn Education Center 1200 Grand Avenue\, Des Moines Room 201
UID:e.1185.4731
SEQUENCE:3
DTSTAMP:20260420T165404Z
URL:http://getaquote-mobile.uniquelyurbandale.com/events/details/hawkeye-lunch-learn-lecture-series-03-15-2016-4731
END:VEVENT

END:VCALENDAR
