BEGIN:VCALENDAR
VERSION:2.0
PRODID:-//ChamberMaster//Event Calendar 2.0//EN
METHOD:PUBLISH
X-PUBLISHED-TTL:P3D
REFRESH-INTERVAL:P3D
CALSCALE:GREGORIAN
BEGIN:VEVENT
DTSTART:20161005T140000Z
DTEND:20161005T210000Z
X-MICROSOFT-CDO-ALLDAYEVENT:FALSE
SUMMARY:Hat Day
DESCRIPTION:Celebrate the opening of the LHF's annual fall clothing and quilt exhibition! Wear your favorite fancy hat to the Farms and get $10 admission. Explore the Flynn Mansion where clothing\, quilts and other historic textiles will be on special exhibition. Visit the 1875 Millinery shop for a close up look at Victorian hat stylings and a chat with our milliner.
X-ALT-DESC;FMTTYPE=text/html:Celebrate the opening of the LHF&#39\;s annual fall clothing and quilt exhibition! Wear your favorite fancy hat to the Farms and get $10 admission.&nbsp\;Explore the Flynn Mansion where clothing\, quilts and other historic textiles will be on special exhibition.&nbsp\;Visit the 1875 Millinery shop for a close up look at Victorian hat stylings and a chat with our milliner.
LOCATION:Living History Farms 11121 Hickman Road Urbandale\, IA 50322
UID:e.1185.4712
SEQUENCE:3
DTSTAMP:20260421T021408Z
URL:http://getaquote-mobile.uniquelyurbandale.com/events/details/hat-day-10-05-2016-4712
END:VEVENT

END:VCALENDAR
